BEGIN:VCALENDAR
VERSION:2.0
PRODID:-//Gratis Uppsala - ECPv5.2.1//NONSGML v1.0//EN
CALSCALE:GREGORIAN
METHOD:PUBLISH
X-WR-CALNAME:Gratis Uppsala
X-ORIGINAL-URL:https://arkiv.gratisuppsala.se
X-WR-CALDESC:Händelser för Gratis Uppsala
BEGIN:VTIMEZONE
TZID:Europe/Stockholm
BEGIN:DAYLIGHT
TZOFFSETFROM:+0100
TZOFFSETTO:+0200
TZNAME:CEST
DTSTART:20170326T010000
END:DAYLIGHT
BEGIN:STANDARD
TZOFFSETFROM:+0200
TZOFFSETTO:+0100
TZNAME:CET
DTSTART:20171029T010000
END:STANDARD
END:VTIMEZONE
BEGIN:VEVENT
DTSTART;TZID=Europe/Stockholm:20170220T103000
DTEND;TZID=Europe/Stockholm:20170220T113000
DTSTAMP:20260420T184010
CREATED:20170220T084515Z
LAST-MODIFIED:20170220T084515Z
UID:12035-1487586600-1487590200@arkiv.gratisuppsala.se
SUMMARY:SPORTLOVSVISNING: ATT BYGGA EN DOMKYRKA
DESCRIPTION:Hur byggdes domkyrkan? Hur många tegelstenar behövdes? \nFör sportlovslediga skolbarn 6-12 år och medföljande. \nFör dig som är 6-12 år. \nGratis. Ingen kostnad \n\n\n\nPlats \nUppsala domkyrka\n\n\n\n\n\n\n\n\n\n\n Dela evenemanget
URL:https://arkiv.gratisuppsala.se/event/sportlovsvisning-att-bygga-en-domkyrka/2017-02-20/
LOCATION:Uppsala domkyrka\, Domkyrkoplan 5\, Uppsala\, 75310\, Sverige
CATEGORIES:Sportlov
ATTACH;FMTTYPE=image/jpeg:https://arkiv.gratisuppsala.se/wp-content/uploads/2017/02/domkyrkan-23.jpg
GEO:59.8584471;17.6332992
X-APPLE-STRUCTURED-LOCATION;VALUE=URI;X-ADDRESS=Uppsala domkyrka Domkyrkoplan 5 Uppsala 75310 Sverige;X-APPLE-RADIUS=500;X-TITLE=Domkyrkoplan 5:geo:17.6332992,59.8584471
END:VEVENT
END:VCALENDAR