BEGIN:VCALENDAR
VERSION:2.0
PRODID:-//Gratis Uppsala - ECPv5.2.1//NONSGML v1.0//EN
CALSCALE:GREGORIAN
METHOD:PUBLISH
X-WR-CALNAME:Gratis Uppsala
X-ORIGINAL-URL:https://arkiv.gratisuppsala.se
X-WR-CALDESC:Händelser för Gratis Uppsala
BEGIN:VTIMEZONE
TZID:Europe/Stockholm
BEGIN:DAYLIGHT
TZOFFSETFROM:+0100
TZOFFSETTO:+0200
TZNAME:CEST
DTSTART:20160327T010000
END:DAYLIGHT
BEGIN:STANDARD
TZOFFSETFROM:+0200
TZOFFSETTO:+0100
TZNAME:CET
DTSTART:20161030T010000
END:STANDARD
END:VTIMEZONE
BEGIN:VEVENT
DTSTART;TZID=Europe/Stockholm:20161020T160000
DTEND;TZID=Europe/Stockholm:20161020T173000
DTSTAMP:20260420T081613
CREATED:20161018T081213Z
LAST-MODIFIED:20161018T081213Z
UID:8952-1476979200-1476984600@arkiv.gratisuppsala.se
SUMMARY:Språkcafe för unga
DESCRIPTION:Språkcafé för dig mellan 13-25 år.\nVi träffas\, fikar och för ett trevligt samtal där deltagarna får öva sig i svenska språket.\nPlats: Kulturpunkten.\nSamarr: Gottsundabiblioteket\, Tillsammans för Uppsala\, Kulturpunkten och Gottsunda Dans & Teater samt Föreningshuset Kontakten. \nIngen föranmälan! Drop-in. Fri entré. \n\n\n\n\n\n Dela evenemanget
URL:https://arkiv.gratisuppsala.se/event/sprakcafe-for-unga-2/
LOCATION:Gottsundabiblioteket\, Valthornsvägen 11\, Uppsala\, 756 50 \, Sverige
CATEGORIES:Litteratur och Poesi,Språkcafé
ATTACH;FMTTYPE=image/jpeg:https://arkiv.gratisuppsala.se/wp-content/uploads/2016/10/one-wold.jpg
GEO:59.8093409;17.6295555
X-APPLE-STRUCTURED-LOCATION;VALUE=URI;X-ADDRESS=Gottsundabiblioteket Valthornsvägen 11 Uppsala 756 50  Sverige;X-APPLE-RADIUS=500;X-TITLE=Valthornsvägen 11:geo:17.6295555,59.8093409
END:VEVENT
END:VCALENDAR