BEGIN:VCALENDAR
VERSION:2.0
PRODID:-//Gratis Uppsala - ECPv5.2.1//NONSGML v1.0//EN
CALSCALE:GREGORIAN
METHOD:PUBLISH
X-WR-CALNAME:Gratis Uppsala
X-ORIGINAL-URL:https://arkiv.gratisuppsala.se
X-WR-CALDESC:Händelser för Gratis Uppsala
BEGIN:VTIMEZONE
TZID:Europe/Stockholm
BEGIN:DAYLIGHT
TZOFFSETFROM:+0100
TZOFFSETTO:+0200
TZNAME:CEST
DTSTART:20160327T010000
END:DAYLIGHT
BEGIN:STANDARD
TZOFFSETFROM:+0200
TZOFFSETTO:+0100
TZNAME:CET
DTSTART:20161030T010000
END:STANDARD
END:VTIMEZONE
BEGIN:VEVENT
DTSTART;TZID=Europe/Stockholm:20160427T170000
DTEND;TZID=Europe/Stockholm:20160427T210000
DTSTAMP:20260420T020951
CREATED:20160419T082749Z
LAST-MODIFIED:20160419T083150Z
UID:6780-1461776400-1461790800@arkiv.gratisuppsala.se
SUMMARY:Språkcafé och läxhjälp
DESCRIPTION:På onsdagar träffas vi för att träna det svenska språket. Vi fikar och umgås med varandra. Vi har läxhjälp i ett separat studierum och har alltid volontärer som kan hjälpa oss med information vi har fått eller funderingar vi har. \nPå torsdagar träffas vi för att jobba med temainriktad verksamhet. \nDela evenemanget
URL:https://arkiv.gratisuppsala.se/event/sprakcafe-och-laxhjalp/2016-04-27/
LOCATION:NBV Kungsgatan\, 	Kungsgatan 61\, Uppsala\, Sverige
CATEGORIES:Språkcafé
ORGANIZER;CN="NBV%20Uppsala%20L%C3%A4n":MAILTO:uppsala@nbv.se
GEO:59.8579098;17.6447944
X-APPLE-STRUCTURED-LOCATION;VALUE=URI;X-ADDRESS=NBV Kungsgatan 	Kungsgatan 61 Uppsala Sverige;X-APPLE-RADIUS=500;X-TITLE=Kungsgatan 61:geo:17.6447944,59.8579098
END:VEVENT
END:VCALENDAR