BEGIN:VCALENDAR
VERSION:2.0
PRODID:-//Gratis Uppsala - ECPv5.2.1//NONSGML v1.0//EN
CALSCALE:GREGORIAN
METHOD:PUBLISH
X-WR-CALNAME:Gratis Uppsala
X-ORIGINAL-URL:https://arkiv.gratisuppsala.se
X-WR-CALDESC:Händelser för Gratis Uppsala
BEGIN:VTIMEZONE
TZID:Europe/Stockholm
BEGIN:DAYLIGHT
TZOFFSETFROM:+0100
TZOFFSETTO:+0200
TZNAME:CEST
DTSTART:20180325T010000
END:DAYLIGHT
BEGIN:STANDARD
TZOFFSETFROM:+0200
TZOFFSETTO:+0100
TZNAME:CET
DTSTART:20181028T010000
END:STANDARD
END:VTIMEZONE
BEGIN:VEVENT
DTSTART;TZID=Europe/Stockholm:20180913T183000
DTEND;TZID=Europe/Stockholm:20180913T200000
DTSTAMP:20260421T083557
CREATED:20180910T012156Z
LAST-MODIFIED:20180910T012156Z
UID:28318-1536863400-1536868800@arkiv.gratisuppsala.se
SUMMARY:Språkdialog med teman
DESCRIPTION:Språkdialog med teman\nTräna språkdialog på svenska med andra på biblioteket och möt nya vänner. \nDatum: Torsdagar\nTid: 17.30–19.00 (START 13/9)\nPlats: Sävjabiblioteket \nFrågor?\nKontakta Marie Blomkvist Falkenö\, telefon 018-4181033 eller Sävjabiblioteket. \nSamarrangemang med Svenska kyrkan. \n  \n\nBesök gärna Sävjabiblioteket för mer information. (Länken öppnas i ett nytt fönster/flik.) \nBild: Johannes Jansson/norden.org \nDela evenemanget
URL:https://arkiv.gratisuppsala.se/event/sprakdialog-med-teman-2/2018-09-13/
LOCATION:Sävjabiblioteket\, Västgötaresan 133\, Uppsala\, 757 54\, Sverige
CATEGORIES:Litteratur och Poesi,Ungdom,Vuxen
ATTACH;FMTTYPE=image/jpeg:https://arkiv.gratisuppsala.se/wp-content/uploads/2017/02/Språkcafé-e1536546087916.jpg
GEO:59.810724;17.702339
X-APPLE-STRUCTURED-LOCATION;VALUE=URI;X-ADDRESS=Sävjabiblioteket Västgötaresan 133 Uppsala 757 54 Sverige;X-APPLE-RADIUS=500;X-TITLE=Västgötaresan 133:geo:17.702339,59.810724
END:VEVENT
END:VCALENDAR