BEGIN:VCALENDAR
VERSION:2.0
PRODID:-//Gratis Uppsala - ECPv5.2.1//NONSGML v1.0//EN
CALSCALE:GREGORIAN
METHOD:PUBLISH
X-WR-CALNAME:Gratis Uppsala
X-ORIGINAL-URL:https://arkiv.gratisuppsala.se
X-WR-CALDESC:Händelser för Gratis Uppsala
BEGIN:VTIMEZONE
TZID:Europe/Stockholm
BEGIN:DAYLIGHT
TZOFFSETFROM:+0100
TZOFFSETTO:+0200
TZNAME:CEST
DTSTART:20180325T010000
END:DAYLIGHT
BEGIN:STANDARD
TZOFFSETFROM:+0200
TZOFFSETTO:+0100
TZNAME:CET
DTSTART:20181028T010000
END:STANDARD
END:VTIMEZONE
BEGIN:VEVENT
DTSTART;TZID=Europe/Stockholm:20180531T180000
DTEND;TZID=Europe/Stockholm:20180531T200000
DTSTAMP:20260421T184302
CREATED:20180507T084531Z
LAST-MODIFIED:20180507T084840Z
UID:23324-1527789600-1527796800@arkiv.gratisuppsala.se
SUMMARY:Språkdialog med teman
DESCRIPTION:Språkdialog med teman\n\n\nKom och öva svenska! \n\n\n\nTid och plats\nTorsdag 31 maj \nKlockan: 17.30–19.00 \nSävjabiblioteket \nMer information\nFrågor? Kontakta diakon Kerstin Olsson på telefon: 018-418 10 31 eller Sävjabiblioteket på telefon: 018-727 52 92. \nI samarrangemang med Svenska kyrkan. \nBild från: upload.wikimedia.org \n  \n\n Dela evenemanget
URL:https://arkiv.gratisuppsala.se/event/sprakdialog-med-teman/
LOCATION:Sävjabiblioteket\, Västgötaresan 133\, Uppsala\, 757 54\, Sverige
CATEGORIES:Litteratur och Poesi
ATTACH;FMTTYPE=image/jpeg:https://arkiv.gratisuppsala.se/wp-content/uploads/2017/02/Språkcafé-e1536546087916.jpg
ORGANIZER;CN="S%C3%A4vjabiblioteket":MAILTO:savjabiblioteket@uppsala.se
GEO:59.810724;17.702339
X-APPLE-STRUCTURED-LOCATION;VALUE=URI;X-ADDRESS=Sävjabiblioteket Västgötaresan 133 Uppsala 757 54 Sverige;X-APPLE-RADIUS=500;X-TITLE=Västgötaresan 133:geo:17.702339,59.810724
END:VEVENT
END:VCALENDAR