BEGIN:VCALENDAR
VERSION:2.0
PRODID:-//Gratis Uppsala - ECPv5.2.1//NONSGML v1.0//EN
CALSCALE:GREGORIAN
METHOD:PUBLISH
X-WR-CALNAME:Gratis Uppsala
X-ORIGINAL-URL:https://arkiv.gratisuppsala.se
X-WR-CALDESC:Händelser för Gratis Uppsala
BEGIN:VTIMEZONE
TZID:Europe/Stockholm
BEGIN:DAYLIGHT
TZOFFSETFROM:+0100
TZOFFSETTO:+0200
TZNAME:CEST
DTSTART:20160327T010000
END:DAYLIGHT
BEGIN:STANDARD
TZOFFSETFROM:+0200
TZOFFSETTO:+0100
TZNAME:CET
DTSTART:20161030T010000
END:STANDARD
END:VTIMEZONE
BEGIN:VEVENT
DTSTART;TZID=Europe/Stockholm:20160219T080000
DTEND;TZID=Europe/Stockholm:20160221T180000
DTSTAMP:20260420T061559
CREATED:20160216T114615Z
LAST-MODIFIED:20160216T114615Z
UID:6175-1455868800-1456077600@arkiv.gratisuppsala.se
SUMMARY:Sprintorientering vid Slottet
DESCRIPTION:Sprintorientering vid Slottet pågår veckan ut och ger dig chans att testa orienteringsbanan när som helst fram till söndag kl 18. Ett kartställ kommer att finnas tillgängligt vid starten på borggården och kontrollerna kommer att vara markerade med samma typ av checkpoints som används i friskvårdsprojektet hittaut.nu\, som du kan läsa om här. \nSprintorienteringen är en del av festivalen Tusen Vintrar. \nBild: pixabay.com. \nDela evenemanget
URL:https://arkiv.gratisuppsala.se/event/sprintorientering-vid-slottet/
LOCATION:Slottet\, 752 37 Uppsala\, Uppsala\, 752 37\, Sverige
CATEGORIES:Sport & Motion
ATTACH;FMTTYPE=image/jpeg:https://arkiv.gratisuppsala.se/wp-content/uploads/2016/02/slottet.jpg
GEO:59.8536282;17.6355653
X-APPLE-STRUCTURED-LOCATION;VALUE=URI;X-ADDRESS=Slottet 752 37 Uppsala Uppsala 752 37 Sverige;X-APPLE-RADIUS=500;X-TITLE=752 37 Uppsala:geo:17.6355653,59.8536282
END:VEVENT
END:VCALENDAR