BEGIN:VCALENDAR
VERSION:2.0
PRODID:-//Gratis Uppsala - ECPv5.2.1//NONSGML v1.0//EN
CALSCALE:GREGORIAN
METHOD:PUBLISH
X-WR-CALNAME:Gratis Uppsala
X-ORIGINAL-URL:https://arkiv.gratisuppsala.se
X-WR-CALDESC:Händelser för Gratis Uppsala
BEGIN:VTIMEZONE
TZID:Europe/Stockholm
BEGIN:DAYLIGHT
TZOFFSETFROM:+0100
TZOFFSETTO:+0200
TZNAME:CEST
DTSTART:20150329T010000
END:DAYLIGHT
BEGIN:STANDARD
TZOFFSETFROM:+0200
TZOFFSETTO:+0100
TZNAME:CET
DTSTART:20151025T010000
END:STANDARD
END:VTIMEZONE
BEGIN:VEVENT
DTSTART;TZID=Europe/Stockholm:20150920T120000
DTEND;TZID=Europe/Stockholm:20150920T170000
DTSTAMP:20260420T064222
CREATED:20150918T112545Z
LAST-MODIFIED:20150918T112545Z
UID:3795-1442750400-1442768400@arkiv.gratisuppsala.se
SUMMARY:Stabbydagen
DESCRIPTION:Flera aktiviteter vid Stabbyprästgård mellan kl. 11 – 16 samt vid Eriksskolan kl. 12 – 14. \nDela evenemanget
URL:https://arkiv.gratisuppsala.se/event/stabbydagen/
LOCATION:Stabbygården\, Stabby backe 1\, Uppsala\, Sverige
CATEGORIES:Konst, Fotografi och Design,Sång och Musik
GEO:59.862367;17.6028431
X-APPLE-STRUCTURED-LOCATION;VALUE=URI;X-ADDRESS=Stabbygården Stabby backe 1 Uppsala Sverige;X-APPLE-RADIUS=500;X-TITLE=Stabby backe 1:geo:17.6028431,59.862367
END:VEVENT
END:VCALENDAR