BEGIN:VCALENDAR
VERSION:2.0
PRODID:-//Gratis Uppsala - ECPv5.2.1//NONSGML v1.0//EN
CALSCALE:GREGORIAN
METHOD:PUBLISH
X-WR-CALNAME:Gratis Uppsala
X-ORIGINAL-URL:https://arkiv.gratisuppsala.se
X-WR-CALDESC:Händelser för Gratis Uppsala
BEGIN:VTIMEZONE
TZID:Europe/Stockholm
BEGIN:DAYLIGHT
TZOFFSETFROM:+0100
TZOFFSETTO:+0200
TZNAME:CEST
DTSTART:20160327T010000
END:DAYLIGHT
BEGIN:STANDARD
TZOFFSETFROM:+0200
TZOFFSETTO:+0100
TZNAME:CET
DTSTART:20161030T010000
END:STANDARD
END:VTIMEZONE
BEGIN:VEVENT
DTSTART;TZID=Europe/Stockholm:20160828T143000
DTEND;TZID=Europe/Stockholm:20160828T153000
DTSTAMP:20260420T054448
CREATED:20160826T064552Z
LAST-MODIFIED:20160826T070743Z
UID:8187-1472394600-1472398200@arkiv.gratisuppsala.se
SUMMARY:Stadsvandring med domkyrkoperspektiv
DESCRIPTION:Välkomna till en intressant promenad i domkyrkokvarteren! Hör om kyrkans historia och exteriör\, om husen som ligger runtomkring och vilken anknytning domkyrkan haft till dem. Guidningen börjar utanför domkyrkan huvudingång.\nSöndag 28 augusti kl 13.30.\nGratis. \nDela evenemanget
URL:https://arkiv.gratisuppsala.se/event/stadsvandring-med-domkyrkoperspektiv/
LOCATION:Uppsala domkyrka\, Domkyrkoplan 5\, Uppsala\, 75310\, Sverige
CATEGORIES:Föreläsning och Kurs,Samhälle,Vandring
ATTACH;FMTTYPE=image/jpeg:https://arkiv.gratisuppsala.se/wp-content/uploads/2016/08/DSC_0367_kontr.jpg
GEO:59.8584471;17.6332992
X-APPLE-STRUCTURED-LOCATION;VALUE=URI;X-ADDRESS=Uppsala domkyrka Domkyrkoplan 5 Uppsala 75310 Sverige;X-APPLE-RADIUS=500;X-TITLE=Domkyrkoplan 5:geo:17.6332992,59.8584471
END:VEVENT
END:VCALENDAR