BEGIN:VCALENDAR
VERSION:2.0
PRODID:-//Gratis Uppsala - ECPv5.2.1//NONSGML v1.0//EN
CALSCALE:GREGORIAN
METHOD:PUBLISH
X-WR-CALNAME:Gratis Uppsala
X-ORIGINAL-URL:https://arkiv.gratisuppsala.se
X-WR-CALDESC:Händelser för Gratis Uppsala
BEGIN:VTIMEZONE
TZID:Europe/Stockholm
BEGIN:DAYLIGHT
TZOFFSETFROM:+0100
TZOFFSETTO:+0200
TZNAME:CEST
DTSTART:20170326T010000
END:DAYLIGHT
BEGIN:STANDARD
TZOFFSETFROM:+0200
TZOFFSETTO:+0100
TZNAME:CET
DTSTART:20171029T010000
END:STANDARD
END:VTIMEZONE
BEGIN:VEVENT
DTSTART;TZID=Europe/Stockholm:20170923T160000
DTEND;TZID=Europe/Stockholm:20170923T170000
DTSTAMP:20260423T181106
CREATED:20170920T090523Z
LAST-MODIFIED:20170920T090523Z
UID:18519-1506182400-1506186000@arkiv.gratisuppsala.se
SUMMARY:Stadsvandring Upsala\, Darling! - Arrangör Upplandsmuseet
DESCRIPTION:Stadsvandring Upsala\, Darling!\nArrangör: Upplandsmuseet\nFölj med på en stadsvandring i centrala Uppsala med HBTQ-tema där det kommer att letas spår efter människor och händelser som bryter mot normer kring kön och sexualitet. \nVilka platser och berättelser hittar vi när vi letar med nya glasögon? \nFri entré.\nOBS! Max 30 personer\, först till kvarn. \nNär: 23 september klockan 15.00-16.00\nSamling: Utanför kyrkan\, Domkyrkoplan \nLäs mer om eventet och om museets andra aktiviteter på Upplandsmuseets hemsida\, här. \n  \nBild: Upplandsmuseet \n  \nDela evenemanget
URL:https://arkiv.gratisuppsala.se/event/stadsvandring-upsala-darling/
LOCATION:Uppsala domkyrka\, Domkyrkoplan 5\, Uppsala\, 75310\, Sverige
CATEGORIES:Kunskap och Lärande,Samhälle,Vandring
ATTACH;FMTTYPE=image/jpeg:https://arkiv.gratisuppsala.se/wp-content/uploads/2017/09/Upsala-darling.jpg
GEO:59.8584471;17.6332992
X-APPLE-STRUCTURED-LOCATION;VALUE=URI;X-ADDRESS=Uppsala domkyrka Domkyrkoplan 5 Uppsala 75310 Sverige;X-APPLE-RADIUS=500;X-TITLE=Domkyrkoplan 5:geo:17.6332992,59.8584471
END:VEVENT
END:VCALENDAR