BEGIN:VCALENDAR
VERSION:2.0
PRODID:-//Gratis Uppsala - ECPv5.2.1//NONSGML v1.0//EN
CALSCALE:GREGORIAN
METHOD:PUBLISH
X-WR-CALNAME:Gratis Uppsala
X-ORIGINAL-URL:https://arkiv.gratisuppsala.se
X-WR-CALDESC:Händelser för Gratis Uppsala
BEGIN:VTIMEZONE
TZID:Europe/Stockholm
BEGIN:DAYLIGHT
TZOFFSETFROM:+0100
TZOFFSETTO:+0200
TZNAME:CEST
DTSTART:20200329T010000
END:DAYLIGHT
BEGIN:STANDARD
TZOFFSETFROM:+0200
TZOFFSETTO:+0100
TZNAME:CET
DTSTART:20201025T010000
END:STANDARD
END:VTIMEZONE
BEGIN:VEVENT
DTSTART;VALUE=DATE:20200209
DTEND;VALUE=DATE:20200210
DTSTAMP:20260423T114308
CREATED:20200114T073223Z
LAST-MODIFIED:20200209T210625Z
UID:40163-1581206400-1581292799@arkiv.gratisuppsala.se
SUMMARY:STF Tillsammans Uppsala\, tjejer 16-20 år
DESCRIPTION:STF Tillsammans Uppsala\, tjejer 16-20 år\nSTF Tillsammans Uppsala är en friluftsgrupp för naturovana tjejer med fokus på att minska ensamhet\, ohälsa och utanförskap. Tillsammans med utbildade kvinnliga ledare och andra tjejer i din egen ålder får du chans att komma ut och upptäcka naturen\, ha roligt\, lära dig nya saker och stärka dig själv. \nAktivitetsträffarna startar i februari 2020 och pågår ungefär var tredje vecka fram till juni 2020 då gruppen avslutar med ett helgläger tillsammans. Aktiviteterna på träffarna bestäms utifrån gruppens önskemål som fylls i vid intresseanmälan. Exempel på aktiviteter är till exempel att paddla kanot\, utöva yoga\, öva på mindfulness i skogen eller umgås runt en sprakande lägereld där man kan prata om livets många frågor. Andra exempel är att lära sig tälja\, laga mat utomhus\, orientera\, åka skridskor\, skidor eller göra en vandring ihop. \nDatum: \nSöndagen den 9 februari 2020 ➔ söndagen den 28 juni 2020 \nTillfällen: \nSöndagen 9 februari 2020 kl 10.30-13:30 (Prova-på-träff i Sunnerstabacken)\nSöndagen 8 mars 2020*\nSöndagen 29 mars 2020*\nSöndagen 26 april 2020*\nSöndagen 17 maj 2020*\nFredag-söndag 26-28 juni 2020 (Helgläger) \nLängd:  \nAlla träffar förutom helglägret är ca 3 h långa\, förlagda på förmiddagen och ute i naturen.\n \nPlats: \nFörsta träffen är i Sunnerstabacken och träffplatserna kommer att variera. Info om exakt plats/tid för kommande träffar beslutas i tillsammans i gruppen. \nAnmälan: \nAnmälan\, Begränsat antal platser \nIntresseanmälan är inte bindande\, du kan gå på första träffen och avgöra efteråt om det är något för dig eller inte. Anmälan är öppen till den 2:a februari. Det är begränsat antal platser\, så anmäl dig så snart som möjligt. \nSista anmälan: Söndagen den 2 februari 2020\nÅlder: 16-20 år\nPris:  \n0-150kr.\nAktiviteterna är gratis för dig som är medlem i Svenska Turistföreningen och ingen utrustning behövs. \nMedlemskap behövs: Medlemskap i Svenska Turistföreningen à 150kr är obligatorisk. \n  \n\nOm\nAlla aktiviteter är gratis\, ingen utrustning eller förkunskap krävs.\nDet enda kravet är medlemskap i Svenska Turistföreningen(150 kr).\nDu får hjälp med att ordna detta i samband med första träffen.\nOm du vill bli medlem innan\, gå in på: https://www.svenskaturistforeningen.se/medlem\nDu är alltid försäkrad på aktiviteterna via Svenska Turistföreningen och alla ledare är utbildade genom Studiefrämjandets ledarskapsutbildning. \nSTF Tillsammans\nSTF Tillsammans Uppsala är en del av Svenska Turistföreningen som tror på möten och upptäckarglädje som ett sätt att föra människor närmare varandra. Med fokus på natur\, kultur och integration arrangeras aktiviteter\, diskussionsgrupper och lokala helgläger för ungdomar i åldern 16-20 år. Hos STF tillsammans möts nyfikna tjejer som vill upptäcka och utforska tillsammans! \nHar du några frågor eller vill lära personerna bakom initiativet?\nBesök: @stftillsammans_uppsala på Instagram\nMaila: stftillsammansuppsala@gmail.com \n  \n\nBesök gärna länkarna nedan (externa länkar öppnas i ett nytt fönster/flik).\nStudiefrämjandet | Svenska Turistföreningen | Kommande utomhusaktiviteter \nFoto: Gerd Altmann \nDela evenemanget
URL:https://arkiv.gratisuppsala.se/event/stf-tillsammans-uppsala/2020-02-09/
LOCATION:Sunnerstabacken\, Sverige
CATEGORIES:Anmälan,Anmälan / Kostnad,Eventkategori,Geografisk kategori,Gratis med medlemskap,Hälsa & Välmående,Kunskap och Lärande,Natur,Psykisk hälsa,Ungdom,Uppsala,Uppsala Kommun,Utflykt / Picknick,Utomhusaktivitet
ATTACH;FMTTYPE=image/jpeg:https://arkiv.gratisuppsala.se/wp-content/uploads/2020/01/human-3509144_1920-e1578986353297.jpg
ORGANIZER;CN="Studiefr%C3%A4mjandet%20Uppsala":MAILTO:uppsala@studieframjandet.se
END:VEVENT
END:VCALENDAR