BEGIN:VCALENDAR
VERSION:2.0
PRODID:-//Gratis Uppsala - ECPv5.2.1//NONSGML v1.0//EN
CALSCALE:GREGORIAN
METHOD:PUBLISH
X-WR-CALNAME:Gratis Uppsala
X-ORIGINAL-URL:https://arkiv.gratisuppsala.se
X-WR-CALDESC:Händelser för Gratis Uppsala
BEGIN:VTIMEZONE
TZID:Europe/Stockholm
BEGIN:DAYLIGHT
TZOFFSETFROM:+0100
TZOFFSETTO:+0200
TZNAME:CEST
DTSTART:20160327T010000
END:DAYLIGHT
BEGIN:STANDARD
TZOFFSETFROM:+0200
TZOFFSETTO:+0100
TZNAME:CET
DTSTART:20161030T010000
END:STANDARD
END:VTIMEZONE
BEGIN:VEVENT
DTSTART;TZID=Europe/Stockholm:20161129T190000
DTEND;TZID=Europe/Stockholm:20161129T200000
DTSTAMP:20260420T054045
CREATED:20160913T104321Z
LAST-MODIFIED:20161109T144223Z
UID:8312-1480446000-1480449600@arkiv.gratisuppsala.se
SUMMARY:Stråkorkesterkonsert
DESCRIPTION:Den traditionella konserten med Uppsala kulturskolas stråkorkestrar. \nGottsunda kyrka 29 november 19:00 – 20:00 \nDela evenemanget
URL:https://arkiv.gratisuppsala.se/event/strakorkesterkonsert/
LOCATION:Gottsunda kyrka\, Gottsunda Centrum\, Uppsala\, 75025\, Sverige
CATEGORIES:Sång och Musik
ATTACH;FMTTYPE=image/jpeg:https://arkiv.gratisuppsala.se/wp-content/uploads/2015/12/fiolmusik.jpg
GEO:59.8093409;17.6295555
X-APPLE-STRUCTURED-LOCATION;VALUE=URI;X-ADDRESS=Gottsunda kyrka Gottsunda Centrum Uppsala 75025 Sverige;X-APPLE-RADIUS=500;X-TITLE=Gottsunda Centrum:geo:17.6295555,59.8093409
END:VEVENT
END:VCALENDAR