BEGIN:VCALENDAR
VERSION:2.0
PRODID:-//Gratis Uppsala - ECPv5.2.1//NONSGML v1.0//EN
CALSCALE:GREGORIAN
METHOD:PUBLISH
X-WR-CALNAME:Gratis Uppsala
X-ORIGINAL-URL:https://arkiv.gratisuppsala.se
X-WR-CALDESC:Händelser för Gratis Uppsala
BEGIN:VTIMEZONE
TZID:Europe/Stockholm
BEGIN:DAYLIGHT
TZOFFSETFROM:+0100
TZOFFSETTO:+0200
TZNAME:CEST
DTSTART:20160327T010000
END:DAYLIGHT
BEGIN:STANDARD
TZOFFSETFROM:+0200
TZOFFSETTO:+0100
TZNAME:CET
DTSTART:20161030T010000
END:STANDARD
END:VTIMEZONE
BEGIN:VEVENT
DTSTART;TZID=Europe/Stockholm:20160924T100000
DTEND;TZID=Europe/Stockholm:20160924T170000
DTSTAMP:20260421T120046
CREATED:20160816T085031Z
LAST-MODIFIED:20160816T085031Z
UID:8121-1474711200-1474736400@arkiv.gratisuppsala.se
SUMMARY:Svamputställning
DESCRIPTION:Svamputställning hos Evolutionsmuseet Botanik. Träffa svampexperter och se vad de har hittat i skogen. Ta gärna med din egen svampkorg om du vill fråga om dina fynd. \nFritt inträde. \nDela evenemanget
URL:https://arkiv.gratisuppsala.se/event/svamputstallning/2016-09-24/
LOCATION:Evolutionsmuseet\, Norbyvägen 22\, Uppsala\, 75236
CATEGORIES:Utställning
ATTACH;FMTTYPE=image/jpeg:https://arkiv.gratisuppsala.se/wp-content/uploads/2016/03/Evolutionsmuseet-e1457690566673.jpg
GEO:59.8492454;17.622122
X-APPLE-STRUCTURED-LOCATION;VALUE=URI;X-ADDRESS=Evolutionsmuseet Norbyvägen 22 Uppsala 75236;X-APPLE-RADIUS=500;X-TITLE=Norbyvägen 22:geo:17.622122,59.8492454
END:VEVENT
END:VCALENDAR