BEGIN:VCALENDAR
VERSION:2.0
PRODID:-//Gratis Uppsala - ECPv5.2.1//NONSGML v1.0//EN
CALSCALE:GREGORIAN
METHOD:PUBLISH
X-WR-CALNAME:Gratis Uppsala
X-ORIGINAL-URL:https://arkiv.gratisuppsala.se
X-WR-CALDESC:Händelser för Gratis Uppsala
BEGIN:VTIMEZONE
TZID:Europe/Stockholm
BEGIN:DAYLIGHT
TZOFFSETFROM:+0100
TZOFFSETTO:+0200
TZNAME:CEST
DTSTART:20160327T010000
END:DAYLIGHT
BEGIN:STANDARD
TZOFFSETFROM:+0200
TZOFFSETTO:+0100
TZNAME:CET
DTSTART:20161030T010000
END:STANDARD
END:VTIMEZONE
BEGIN:VEVENT
DTSTART;TZID=Europe/Stockholm:20160423T120000
DTEND;TZID=Europe/Stockholm:20160423T160000
DTSTAMP:20260420T183700
CREATED:20160420T071916Z
LAST-MODIFIED:20160420T071916Z
UID:6803-1461412800-1461427200@arkiv.gratisuppsala.se
SUMMARY:Svensk Magisk Cirkel
DESCRIPTION:Svensk Magisk Cirkel är på plats i Uppsala Konsert & Kongress\nnär Uppsala Magic & Comedy gästar Market lördag 23 april.\nTa chansen att testa optiska illusioner\, provsitta en magisk stol och träffa trollkarlar.\nPå marknaden finns magi- och humorrelaterade produkter\, allt från nybörjartrick till mer avancerade rutiner för den mer erfarne magiutövaren. \nBild: pixabay.com. \n  \nDela evenemanget
URL:https://arkiv.gratisuppsala.se/event/svensk-magisk-cirkel/
LOCATION:Uppsala Konsert & Kongress\, Vaksalatorg 1\, Uppsala
CATEGORIES:Marknad & Loppis,Workshop
ATTACH;FMTTYPE=image/jpeg:https://arkiv.gratisuppsala.se/wp-content/uploads/2016/04/magi.jpg
ORGANIZER;CN="Uppsala%20Konsert%20%26%20Kongress":MAILTO:info@ukk.se
GEO:59.8614429;17.6460839
X-APPLE-STRUCTURED-LOCATION;VALUE=URI;X-ADDRESS=Uppsala Konsert & Kongress Vaksalatorg 1 Uppsala;X-APPLE-RADIUS=500;X-TITLE=Vaksalatorg 1:geo:17.6460839,59.8614429
END:VEVENT
END:VCALENDAR