BEGIN:VCALENDAR
VERSION:2.0
PRODID:-//Gratis Uppsala - ECPv5.2.1//NONSGML v1.0//EN
CALSCALE:GREGORIAN
METHOD:PUBLISH
X-WR-CALNAME:Gratis Uppsala
X-ORIGINAL-URL:https://arkiv.gratisuppsala.se
X-WR-CALDESC:Händelser för Gratis Uppsala
BEGIN:VTIMEZONE
TZID:Europe/Stockholm
BEGIN:DAYLIGHT
TZOFFSETFROM:+0100
TZOFFSETTO:+0200
TZNAME:CEST
DTSTART:20180325T010000
END:DAYLIGHT
BEGIN:STANDARD
TZOFFSETFROM:+0200
TZOFFSETTO:+0100
TZNAME:CET
DTSTART:20181028T010000
END:STANDARD
END:VTIMEZONE
BEGIN:VEVENT
DTSTART;TZID=Europe/Stockholm:20180913T143000
DTEND;TZID=Europe/Stockholm:20180913T163000
DTSTAMP:20260420T102022
CREATED:20180904T120014Z
LAST-MODIFIED:20180904T120014Z
UID:28316-1536849000-1536856200@arkiv.gratisuppsala.se
SUMMARY:SeSam-föreläsning: Ta makten över ditt liv
DESCRIPTION:SeSamföreläsning 13/9 – Ta makten över ditt liv\nFöreläsare: Thomas Kjellberg \nFöreläsningen handlar om hur Thomas ser på sitt liv. Han berättar om hur han lever sitt liv med en Cp-skada. Med åren har han mer och mer reflekterat över hur hans hjälp ser ut. Han har förstått av egen erfarenhet att föräldrar och personer i hans närhet ska låta honom försöka själv innan man hjälper honom\, för hjälpen kan ibland stjälpa. Låter man honom testa själva ökas hans självkänsla. Om man hjälper för mycket kan det bli en falsk trygghet. \nThomas som har svårt att cykla på grund av dålig balans har haft tre fyrhjulingar och han har sedan 13 år även en Volvo 940. \nThomas upplever även att föräldrar har en outtalad sorg över att barnen har ett handikapp. Och det vill han också berätta mer om i sin föreläsning. \nOm föreläsaren: Thomas Kjellberg\, 38 år\, lätt Cp-skada från födelsen. Jobbar i ett projekt som heter Ge Makten Vidare. \nNÄR: Torsdag 13/9\nTID: Klockan 13.30-15.30\nLOKAL: Dragarbrunnsgatan 71\, Mariasalen\, Stiftets Hus \n\nObligatorisk föranmälan på http://www.sesamuppsala.se/sesamforelasning-13-9-ta-makten-over-ditt-liv/\nSeSam tar ut en avgift på 100:- från den som anmält sig men inte kommer och inte heller avanmält sig 24 timmar innan föreläsningen.\n\n\n(Bild hämtad från pixabay.com.)\n Dela evenemanget
URL:https://arkiv.gratisuppsala.se/event/ta-makten-over-ditt-liv/
LOCATION:Dragarbrunnsgatan 71\, Mariasalen\, Stiftets Hus\, Dragarbrunnsgatan 71\, Uppsala\, Sverige
CATEGORIES:För anhöriga,Föreläsning och Kurs
ATTACH;FMTTYPE=image/jpeg:https://arkiv.gratisuppsala.se/wp-content/uploads/2018/08/man-2037255_640.jpg
ORGANIZER;CN="Sesam%20Uppsala":MAILTO:info@sesamuppsala.se
END:VEVENT
END:VCALENDAR