BEGIN:VCALENDAR
VERSION:2.0
PRODID:-//Gratis Uppsala - ECPv5.2.1//NONSGML v1.0//EN
CALSCALE:GREGORIAN
METHOD:PUBLISH
X-WR-CALNAME:Gratis Uppsala
X-ORIGINAL-URL:https://arkiv.gratisuppsala.se
X-WR-CALDESC:Händelser för Gratis Uppsala
BEGIN:VTIMEZONE
TZID:Europe/Stockholm
BEGIN:DAYLIGHT
TZOFFSETFROM:+0100
TZOFFSETTO:+0200
TZNAME:CEST
DTSTART:20150329T010000
END:DAYLIGHT
BEGIN:STANDARD
TZOFFSETFROM:+0200
TZOFFSETTO:+0100
TZNAME:CET
DTSTART:20151025T010000
END:STANDARD
END:VTIMEZONE
BEGIN:VEVENT
DTSTART;TZID=Europe/Stockholm:20151008T180000
DTEND;TZID=Europe/Stockholm:20151008T190000
DTSTAMP:20260420T154156
CREATED:20150917T083202Z
LAST-MODIFIED:20150917T085139Z
UID:3773-1444327200-1444330800@arkiv.gratisuppsala.se
SUMMARY:Talboksinformation för barn och föräldrar
DESCRIPTION:Välkommen till en informationskväll om talböcker på Stadsbibliotekets barn- och ungdomsavdelning. \nUnder talbokskvällen får du information om vad talböcker är\, MTM (Myndigheten för tillgängliga medier) och Legimus. Du får även information om hur du gör för att lyssna på talböcker. \nMer info på arrangörens hemsida. \nDela evenemanget
URL:https://arkiv.gratisuppsala.se/event/talboksinformation-for-barn-och-foraldrar-4/
LOCATION:Stadsbiblioteket\, Svartbäcksgatan 17
GEO:59.8606206;17.6353278
X-APPLE-STRUCTURED-LOCATION;VALUE=URI;X-ADDRESS=Stadsbiblioteket Svartbäcksgatan 17;X-APPLE-RADIUS=500;X-TITLE=Svartbäcksgatan 17:geo:17.6353278,59.8606206
END:VEVENT
END:VCALENDAR