BEGIN:VCALENDAR
VERSION:2.0
PRODID:-//Gratis Uppsala - ECPv5.2.1//NONSGML v1.0//EN
CALSCALE:GREGORIAN
METHOD:PUBLISH
X-WR-CALNAME:Gratis Uppsala
X-ORIGINAL-URL:https://arkiv.gratisuppsala.se
X-WR-CALDESC:Händelser för Gratis Uppsala
BEGIN:VTIMEZONE
TZID:Europe/Stockholm
BEGIN:DAYLIGHT
TZOFFSETFROM:+0100
TZOFFSETTO:+0200
TZNAME:CEST
DTSTART:20180325T010000
END:DAYLIGHT
BEGIN:STANDARD
TZOFFSETFROM:+0200
TZOFFSETTO:+0100
TZNAME:CET
DTSTART:20181028T010000
END:STANDARD
END:VTIMEZONE
BEGIN:VEVENT
DTSTART;TZID=Europe/Stockholm:20180603T120000
DTEND;TZID=Europe/Stockholm:20180603T170000
DTSTAMP:20260420T100538
CREATED:20180518T090804Z
LAST-MODIFIED:20180518T090804Z
UID:25151-1528027200-1528045200@arkiv.gratisuppsala.se
SUMMARY:Täljkalas
DESCRIPTION: Täljkalas med Upplandsmuseet!\n\nUpplandsmuseets hemslöjdskonsulenter bjuder in till täljkalas på Disagården. Täljträff för dig som redan täljer\, workshops i täljning för vuxna\, täljning för barn och ungdomar samt föredrag med yxmakaren Julia Kalthoff. \nVerktyg att låna och färskt material finns på plats. Ta med egna verktyg om ni önskar. \nLäs mer om eventet och programmet här \nTid och plats\nSöndag 3 juni\, klockan 11:00-16:00 \nDisagården\, Gamla Uppsala \nBild från: Pixabay \n\n Dela evenemanget
URL:https://arkiv.gratisuppsala.se/event/taljkalas/
LOCATION:Disagården\, Gamla Uppsala\, Uppsala\, Sverige
ATTACH;FMTTYPE=image/jpeg:https://arkiv.gratisuppsala.se/wp-content/uploads/2018/05/Dalahast_2-e1526638045232.jpg
GEO:59.90112;17.629022
X-APPLE-STRUCTURED-LOCATION;VALUE=URI;X-ADDRESS=Disagården Gamla Uppsala Uppsala Sverige;X-APPLE-RADIUS=500;X-TITLE=Gamla Uppsala:geo:17.629022,59.90112
END:VEVENT
END:VCALENDAR