BEGIN:VCALENDAR
VERSION:2.0
PRODID:-//Gratis Uppsala - ECPv5.2.1//NONSGML v1.0//EN
CALSCALE:GREGORIAN
METHOD:PUBLISH
X-WR-CALNAME:Gratis Uppsala
X-ORIGINAL-URL:https://arkiv.gratisuppsala.se
X-WR-CALDESC:Händelser för Gratis Uppsala
BEGIN:VTIMEZONE
TZID:Europe/Stockholm
BEGIN:DAYLIGHT
TZOFFSETFROM:+0100
TZOFFSETTO:+0200
TZNAME:CEST
DTSTART:20180325T010000
END:DAYLIGHT
BEGIN:STANDARD
TZOFFSETFROM:+0200
TZOFFSETTO:+0100
TZNAME:CET
DTSTART:20181028T010000
END:STANDARD
END:VTIMEZONE
BEGIN:VEVENT
DTSTART;TZID=Europe/Stockholm:20180406T150000
DTEND;TZID=Europe/Stockholm:20180406T180000
DTSTAMP:20260421T120213
CREATED:20180405T061731Z
LAST-MODIFIED:20180405T062117Z
UID:23762-1523026800-1523037600@arkiv.gratisuppsala.se
SUMMARY:Teckna manga med Lisa Medin!
DESCRIPTION:Teckna manga med Lisa Medin!\nPåskolovsworkshop för dig mellan 10 och 15 år\nfredag 6 april kl. 14:00-17:00\nSerietecknaren Lisa Medin lär ut grunderna i teckning med avstamp i de japanska mangaserierna. Skapa figurer och lär dig teckna rörelse och minspel!\nBegränsat antal platser. Föranmälan till knivstabibliotek@knivsta.se  eller på 018-34 72 30 \nIngen kostnad\, enkel fika finns. \nBild från: Pixabay.com\n \nDela evenemanget
URL:https://arkiv.gratisuppsala.se/event/teckna-manga-med-lisa-medin/
LOCATION:Knivsta Bibliotek\, Centralvägen 18\, Knivsta\, Knivsta\, 74140\, Sverige
CATEGORIES:Kunskap och Lärande,Litteratur och Poesi,Öppet Hus,Vuxen
ATTACH;FMTTYPE=image/png:https://arkiv.gratisuppsala.se/wp-content/uploads/2018/04/chibi-2380489_640.png
ORGANIZER;CN="Knivsta%20bibliotek":MAILTO:knivstabibliotek@knivsta.se
GEO:59.7276919;17.7857802
X-APPLE-STRUCTURED-LOCATION;VALUE=URI;X-ADDRESS=Knivsta Bibliotek Centralvägen 18 Knivsta Knivsta 74140 Sverige;X-APPLE-RADIUS=500;X-TITLE=Centralvägen 18:geo:17.7857802,59.7276919
END:VEVENT
END:VCALENDAR