BEGIN:VCALENDAR
VERSION:2.0
PRODID:-//Gratis Uppsala - ECPv5.2.1//NONSGML v1.0//EN
CALSCALE:GREGORIAN
METHOD:PUBLISH
X-WR-CALNAME:Gratis Uppsala
X-ORIGINAL-URL:https://arkiv.gratisuppsala.se
X-WR-CALDESC:Händelser för Gratis Uppsala
BEGIN:VTIMEZONE
TZID:Europe/Stockholm
BEGIN:DAYLIGHT
TZOFFSETFROM:+0100
TZOFFSETTO:+0200
TZNAME:CEST
DTSTART:20160327T010000
END:DAYLIGHT
BEGIN:STANDARD
TZOFFSETFROM:+0200
TZOFFSETTO:+0100
TZNAME:CET
DTSTART:20161030T010000
END:STANDARD
END:VTIMEZONE
BEGIN:VEVENT
DTSTART;TZID=Europe/Stockholm:20160613T120000
DTEND;TZID=Europe/Stockholm:20160613T150000
DTSTAMP:20260421T014935
CREATED:20160608T071607Z
LAST-MODIFIED:20160608T073630Z
UID:7191-1465819200-1465830000@arkiv.gratisuppsala.se
SUMMARY:Teckna serier
DESCRIPTION:Teckna serier med serietecknaren Lisa Medin i Mallas sal\, på Stadsbiblioteket. \nMåndag 13 juni hålls två kurser i serieteckning\, en för dig som är 9-12 år och en för dig som är 13 år och uppåt. Vill du vara med? Föranmäl dig på telefon 018-7271710\, på e-post stadsbibli.barn@uppsala.se eller prata med personalen på biblioteket. \nTider: 9-12 år kl 11-14. Från 13 år och uppåt kl 15-18. \nKursen är gratis! \nOm Lisa Medin och hennes workshops:\nLisa Medin är serietecknare och illustratör\, samt upphovsperson bakom det humoristiska musikeposet Medley som nominerades till seriepriset Urhunden 2014. \nUnder de två workshops som hålls på Stadsbiblioteket i Uppsala får deltagarna prova på att skapa olika typer av figurer (grundanatomi\, ansikten\, hår\, händer\, fötter\, mimik\, tyg\, rörelse med mera) och ge dem liv och personlighet. I workshopen för något äldre deltagare – 13 år och uppåt – går man även igenom grunderna i hur man planerar och gör en seriesida\, steg för steg. \nSamarrangemang med Studiefrämjandets kulturskola och Studiefrämjandet. \nBild: pixabay.com. \nDela evenemanget
URL:https://arkiv.gratisuppsala.se/event/teckna-serier/
LOCATION:Stadsbiblioteket\, Svartbäcksgatan 17
ATTACH;FMTTYPE=image/png:https://arkiv.gratisuppsala.se/wp-content/uploads/2016/06/anime.png
ORGANIZER;CN="Bibliotek%20Uppsala":MAILTO:kundtjanst@bibliotekuppsala.se
GEO:59.8606206;17.6353278
X-APPLE-STRUCTURED-LOCATION;VALUE=URI;X-ADDRESS=Stadsbiblioteket Svartbäcksgatan 17;X-APPLE-RADIUS=500;X-TITLE=Svartbäcksgatan 17:geo:17.6353278,59.8606206
END:VEVENT
END:VCALENDAR