BEGIN:VCALENDAR
VERSION:2.0
PRODID:-//Gratis Uppsala - ECPv5.2.1//NONSGML v1.0//EN
CALSCALE:GREGORIAN
METHOD:PUBLISH
X-WR-CALNAME:Gratis Uppsala
X-ORIGINAL-URL:https://arkiv.gratisuppsala.se
X-WR-CALDESC:Händelser för Gratis Uppsala
BEGIN:VTIMEZONE
TZID:Europe/Stockholm
BEGIN:DAYLIGHT
TZOFFSETFROM:+0100
TZOFFSETTO:+0200
TZNAME:CEST
DTSTART:20150329T010000
END:DAYLIGHT
BEGIN:STANDARD
TZOFFSETFROM:+0200
TZOFFSETTO:+0100
TZNAME:CET
DTSTART:20151025T010000
END:STANDARD
END:VTIMEZONE
BEGIN:VEVENT
DTSTART;TZID=Europe/Stockholm:20151111T180000
DTEND;TZID=Europe/Stockholm:20151111T190000
DTSTAMP:20260419T183659
CREATED:20151027T095512Z
LAST-MODIFIED:20151027T095512Z
UID:4319-1447264800-1447268400@arkiv.gratisuppsala.se
SUMMARY:Temakväll på Stadsbiblioteket
DESCRIPTION:Onsdag 11 november\, Tisdag 24 november\, Onsdag 2 december\, kl. 18.00–19.00. \nI höst inbjuder U-FOLD och Stadsbiblioteket till tre temakvällar kring missbrukets utmaningar. I tre föreläsningar sätter några av Sveriges främsta experter fokus på Smärta och smärtbehandling\, Barn till föräldrar med missbruksproblematik och Medicinsk marijuana. Välkommen till Kerstin Ekman-salen och tre aktuella samtal.\nTid: 11 november\, 24 november\, 2 december\, kl. 18.00–19.00\nPlats: Stadsbiblioteket\, Kerstin Ekman-salen (karta)\nKostnad: Fri entré\, Boka biljett i receptionen\, 018–727 17 00\, hämta senast 30 min. före programmets start.\n11 november: Smärta och smärtbehandling – Problem med läkemedelsberoende som kan uppstå vid behandling av smärtpatienter. \nMånga läkemedel mot smärta ger god lindring vid akut eller långvarig smärta\, men kan även ge upphov till ett läkemedelsberoende som i sin tur kan skapa nya problem för patienten. Torsten Gordh diskuterar hur denna typ av problem kan förebyggas\, hur de kan behandlas när de uppstår och hur olika smärtstillande läkemedel kan användas med minsta möjliga risker för patienten?\nTorsten Gordh\, professor i klinisk smärtforskning vid\, Uppsala Universitet\, Överläkare vid smärtcentrum\, Akademiska sjukhuset. \nDela evenemanget
URL:https://arkiv.gratisuppsala.se/event/temakvall-pa-stadsbiblioteket/
LOCATION:Stadsbiblioteket\, Svartbäcksgatan 17
CATEGORIES:Föreläsning och Kurs
GEO:59.8606206;17.6353278
X-APPLE-STRUCTURED-LOCATION;VALUE=URI;X-ADDRESS=Stadsbiblioteket Svartbäcksgatan 17;X-APPLE-RADIUS=500;X-TITLE=Svartbäcksgatan 17:geo:17.6353278,59.8606206
END:VEVENT
END:VCALENDAR