BEGIN:VCALENDAR
VERSION:2.0
PRODID:-//Gratis Uppsala - ECPv5.2.1//NONSGML v1.0//EN
CALSCALE:GREGORIAN
METHOD:PUBLISH
X-WR-CALNAME:Gratis Uppsala
X-ORIGINAL-URL:https://arkiv.gratisuppsala.se
X-WR-CALDESC:Händelser för Gratis Uppsala
BEGIN:VTIMEZONE
TZID:Europe/Stockholm
BEGIN:DAYLIGHT
TZOFFSETFROM:+0100
TZOFFSETTO:+0200
TZNAME:CEST
DTSTART:20160327T010000
END:DAYLIGHT
BEGIN:STANDARD
TZOFFSETFROM:+0200
TZOFFSETTO:+0100
TZNAME:CET
DTSTART:20161030T010000
END:STANDARD
END:VTIMEZONE
BEGIN:VEVENT
DTSTART;TZID=Europe/Stockholm:20160416T103000
DTEND;TZID=Europe/Stockholm:20160302T170000
DTSTAMP:20260422T012240
CREATED:20160302T124550Z
LAST-MODIFIED:20160302T124550Z
UID:6345-1460802600-1456938000@arkiv.gratisuppsala.se
SUMMARY:Temavisning - Domkyrkans fönster
DESCRIPTION:Öppen visning om den pågående konserveringen av domkyrkans glasmålningar. Gratis. \nDela evenemanget
URL:https://arkiv.gratisuppsala.se/event/temavisning-domkyrkans-fonster/
LOCATION:Uppsala domkyrka\, Domkyrkoplan 5\, Uppsala\, 75310\, Sverige
CATEGORIES:Föreläsning och Kurs,Konst, Fotografi och Design,Samhälle
ATTACH;FMTTYPE=image/jpeg:https://arkiv.gratisuppsala.se/wp-content/uploads/2016/03/Glasmålning.jpg
GEO:59.8584471;17.6332992
X-APPLE-STRUCTURED-LOCATION;VALUE=URI;X-ADDRESS=Uppsala domkyrka Domkyrkoplan 5 Uppsala 75310 Sverige;X-APPLE-RADIUS=500;X-TITLE=Domkyrkoplan 5:geo:17.6332992,59.8584471
END:VEVENT
END:VCALENDAR