BEGIN:VCALENDAR
VERSION:2.0
PRODID:-//Gratis Uppsala - ECPv5.2.1//NONSGML v1.0//EN
CALSCALE:GREGORIAN
METHOD:PUBLISH
X-WR-CALNAME:Gratis Uppsala
X-ORIGINAL-URL:https://arkiv.gratisuppsala.se
X-WR-CALDESC:Händelser för Gratis Uppsala
BEGIN:VTIMEZONE
TZID:Europe/Stockholm
BEGIN:DAYLIGHT
TZOFFSETFROM:+0100
TZOFFSETTO:+0200
TZNAME:CEST
DTSTART:20170326T010000
END:DAYLIGHT
BEGIN:STANDARD
TZOFFSETFROM:+0200
TZOFFSETTO:+0100
TZNAME:CET
DTSTART:20171029T010000
END:STANDARD
END:VTIMEZONE
BEGIN:VEVENT
DTSTART;TZID=Europe/Stockholm:20170924T163000
DTEND;TZID=Europe/Stockholm:20170924T174500
DTSTAMP:20260424T015638
CREATED:20170918T092134Z
LAST-MODIFIED:20170921T085455Z
UID:18455-1506270600-1506275100@arkiv.gratisuppsala.se
SUMMARY:Temavisning om reformationen: Munken som vågade protestera
DESCRIPTION:Temavisning: Munken som vågade protestera\nDramatiserad visning om reformationen i Domkyrkan\nArrangör: Svenska Kyrkan Uppsala\, Uppsala Domkyrka \nUnder våren spelas en dramatiserad föreställning om reformationstiden i Uppsala domkyrka. Vi får möta munken Martin Luthers fru Käthe\, Laurentius Petri och Gustav Vasas dotter Elisabeth i en berättelse som väver ihop händelserna kring Luthers protester i Tyskland och Gustav Vasas tid i Sverige. \nVad ville de och Luther förändra? Och vad skulle du vilja förändra? \nReformationen i Sverige avser hur den medeltida katolska kyrkan i Sverige cirka 1527-1600 omvandlades till den evangelisk-lutherska svenska kyrkan. Reformationen markerar medeltidens slut och början på vasatiden i Sverige. \n  \nÖppen visning\, gratis. \nTider: \nSöndag 24 september klockan 15.30-16.45\nSöndag 15 oktober klockan 15.30-16.45\nOnsdag 15 november klockan 16.30-17.30 \nPlats: Domkyrkan Uppsala \nLäs mer på Domkyrkans hemsida\, här. \n  \nBild från wikimedia.org/ \nDela evenemanget
URL:https://arkiv.gratisuppsala.se/event/temavisning-reformationen/2017-09-24/
LOCATION:Uppsala domkyrka\, Domkyrkoplan 5\, Uppsala\, 75310\, Sverige
CATEGORIES:Kunskap och Lärande,Religion,Samhälle
ATTACH;FMTTYPE=image/jpeg:https://arkiv.gratisuppsala.se/wp-content/uploads/2017/09/Luther-Reformationen-e1505987668661.jpg
GEO:59.8584471;17.6332992
X-APPLE-STRUCTURED-LOCATION;VALUE=URI;X-ADDRESS=Uppsala domkyrka Domkyrkoplan 5 Uppsala 75310 Sverige;X-APPLE-RADIUS=500;X-TITLE=Domkyrkoplan 5:geo:17.6332992,59.8584471
END:VEVENT
END:VCALENDAR