BEGIN:VCALENDAR
VERSION:2.0
PRODID:-//Gratis Uppsala - ECPv5.2.1//NONSGML v1.0//EN
CALSCALE:GREGORIAN
METHOD:PUBLISH
X-WR-CALNAME:Gratis Uppsala
X-ORIGINAL-URL:https://arkiv.gratisuppsala.se
X-WR-CALDESC:Händelser för Gratis Uppsala
BEGIN:VTIMEZONE
TZID:Europe/Stockholm
BEGIN:DAYLIGHT
TZOFFSETFROM:+0100
TZOFFSETTO:+0200
TZNAME:CEST
DTSTART:20180325T010000
END:DAYLIGHT
BEGIN:STANDARD
TZOFFSETFROM:+0200
TZOFFSETTO:+0100
TZNAME:CET
DTSTART:20181028T010000
END:STANDARD
END:VTIMEZONE
BEGIN:VEVENT
DTSTART;TZID=Europe/Stockholm:20180918T161500
DTEND;TZID=Europe/Stockholm:20180918T171500
DTSTAMP:20260422T115159
CREATED:20181002T110932Z
LAST-MODIFIED:20181104T230159Z
UID:30519-1537287300-1537290900@arkiv.gratisuppsala.se
SUMMARY:Tisdagsklubben på Eriksbergsbiblioteket!
DESCRIPTION:Tisdagsklubben på Eriksbergsbiblioteket!\nVälkommen att träffas på Eriksbergsbiblioteket och pyssla\, spela spel\, fika och tipsa varandra om böcker. \nFör dig 9–12 år. \nFri entré. \nTid och plats\nTisdagar 15.15–16.15 (18 september\, 23 oktober och 20 november) \nEriksbergsbiblioteket \nAnmälan\nVill du gå med i Tisdagsklubben? Anmäl dig till biblioteket! \n\nKontaktuppgifter Eriksbergsbiblioteket\nAdress: Granitvägen 14\, 752 43 Uppsala \nTelefon:  018-7275438 \nE-post: eriksbergsbiblioteket@uppsala.se \nSamordnare: Maria Kungsman Kollberg \n\nEriksbergsbiblioteket på Facebook | Eriksbergsbiblioteket \nBild: pixabay.com \nDela evenemanget
URL:https://arkiv.gratisuppsala.se/event/tisdagsklubben-eriksberg-ht18/2018-09-18/
LOCATION:Eriksbergsbiblioteket\, Granitvägen 14\, Uppsala
CATEGORIES:Litteratur och Poesi,Pyssel
ATTACH;FMTTYPE=image/jpeg:https://arkiv.gratisuppsala.se/wp-content/uploads/2018/10/take-532097_640.jpg
GEO:59.8402279;17.6004145
X-APPLE-STRUCTURED-LOCATION;VALUE=URI;X-ADDRESS=Eriksbergsbiblioteket Granitvägen 14 Uppsala;X-APPLE-RADIUS=500;X-TITLE=Granitvägen 14:geo:17.6004145,59.8402279
END:VEVENT
END:VCALENDAR