BEGIN:VCALENDAR
VERSION:2.0
PRODID:-//Gratis Uppsala - ECPv5.2.1//NONSGML v1.0//EN
CALSCALE:GREGORIAN
METHOD:PUBLISH
X-WR-CALNAME:Gratis Uppsala
X-ORIGINAL-URL:https://arkiv.gratisuppsala.se
X-WR-CALDESC:Händelser för Gratis Uppsala
BEGIN:VTIMEZONE
TZID:Europe/Stockholm
BEGIN:DAYLIGHT
TZOFFSETFROM:+0100
TZOFFSETTO:+0200
TZNAME:CEST
DTSTART:20160327T010000
END:DAYLIGHT
BEGIN:STANDARD
TZOFFSETFROM:+0200
TZOFFSETTO:+0100
TZNAME:CET
DTSTART:20161030T010000
END:STANDARD
END:VTIMEZONE
BEGIN:VEVENT
DTSTART;TZID=Europe/Stockholm:20161119T120000
DTEND;TZID=Europe/Stockholm:20161119T170000
DTSTAMP:20260421T152314
CREATED:20161118T130008Z
LAST-MODIFIED:20161118T130008Z
UID:9437-1479556800-1479574800@arkiv.gratisuppsala.se
SUMMARY:Tobo Julmarknad
DESCRIPTION:Ett 80-tal utställare. Utställare finns i Folkets Hus och på Eric Sahlström Institutet. Utomhus finns utställare från det gamla industriområdet\, runt Folkets Hus vidare genom den gamla 1700-talsidyllen Västerbruksvägen till Eric Sahlström Institutet. \nJulmusik och godis från tomten. \nFri parkering och fritt inträde.Servering finns. \nVälkomna! Arr: Tobo Folkets Husförening \n\n\n\n\n\nPlats: Tobo Folkets Hus och Eric Sahlström Institutet. \n\n\n\n Dela evenemanget
URL:https://arkiv.gratisuppsala.se/event/tobo-julmarknad/
LOCATION:Tierps kommun
ATTACH;FMTTYPE=image/png:https://arkiv.gratisuppsala.se/wp-content/uploads/2016/11/tobo-julmakad.png
END:VEVENT
END:VCALENDAR