BEGIN:VCALENDAR
VERSION:2.0
PRODID:-//Gratis Uppsala - ECPv5.2.1//NONSGML v1.0//EN
CALSCALE:GREGORIAN
METHOD:PUBLISH
X-WR-CALNAME:Gratis Uppsala
X-ORIGINAL-URL:https://arkiv.gratisuppsala.se
X-WR-CALDESC:Händelser för Gratis Uppsala
BEGIN:VTIMEZONE
TZID:Europe/Stockholm
BEGIN:DAYLIGHT
TZOFFSETFROM:+0100
TZOFFSETTO:+0200
TZNAME:CEST
DTSTART:20170326T010000
END:DAYLIGHT
BEGIN:STANDARD
TZOFFSETFROM:+0200
TZOFFSETTO:+0100
TZNAME:CET
DTSTART:20171029T010000
END:STANDARD
END:VTIMEZONE
BEGIN:VEVENT
DTSTART;TZID=Europe/Stockholm:20170216T190000
DTEND;TZID=Europe/Stockholm:20170216T220000
DTSTAMP:20260420T152932
CREATED:20170215T141724Z
LAST-MODIFIED:20170215T142129Z
UID:12026-1487271600-1487282400@arkiv.gratisuppsala.se
SUMMARY:Tobotorsdag
DESCRIPTION:  \nVarannan torsdag är det spel- och danskväll på Eric Sahlström Institutet i Tobo. Kvällens gäster\, Sonia Sahlström & Håkan Larsson\, underhåller fram till fikat. Därefter blir det allspel till dans. \nHuvudarrangör: Eric Sahlström Institutet. Område: Tierp \nPlats:Tobo. Fri entre \nAdress:Bruksgatan 3\, 748 50 Tobo \nVälkomna!!!!! \nDela evenemanget
URL:https://arkiv.gratisuppsala.se/event/tobotorsdag/
LOCATION:Tierps kommun
CATEGORIES:Dans,Sång och Musik
ATTACH;FMTTYPE=image/jpeg:https://arkiv.gratisuppsala.se/wp-content/uploads/2017/02/Tobo_bostäder5.jpg
END:VEVENT
END:VCALENDAR