BEGIN:VCALENDAR
VERSION:2.0
PRODID:-//Gratis Uppsala - ECPv5.2.1//NONSGML v1.0//EN
CALSCALE:GREGORIAN
METHOD:PUBLISH
X-WR-CALNAME:Gratis Uppsala
X-ORIGINAL-URL:https://arkiv.gratisuppsala.se
X-WR-CALDESC:Händelser för Gratis Uppsala
BEGIN:VTIMEZONE
TZID:Europe/Stockholm
BEGIN:DAYLIGHT
TZOFFSETFROM:+0100
TZOFFSETTO:+0200
TZNAME:CEST
DTSTART:20170326T010000
END:DAYLIGHT
BEGIN:STANDARD
TZOFFSETFROM:+0200
TZOFFSETTO:+0100
TZNAME:CET
DTSTART:20171029T010000
END:STANDARD
END:VTIMEZONE
BEGIN:VEVENT
DTSTART;TZID=Europe/Stockholm:20170314T190000
DTEND;TZID=Europe/Stockholm:20170314T210000
DTSTAMP:20260420T100006
CREATED:20170125T093826Z
LAST-MODIFIED:20170125T093826Z
UID:10957-1489518000-1489525200@arkiv.gratisuppsala.se
SUMMARY:Trädgårdens glädjeämnen och objudna gäster
DESCRIPTION:Trädgårdens glädjeämnen och objudna gäster\n– en kväll i ekoodlingens tecken med Maj-Lis Petterson\n\n\nMaj-Lis Pettersson\, hortonom\, växtskyddsexpert och välkänd som trädgårdsexpert i radions Odla med P1\, berättar\nom de vanligaste skadegörarna i våra trädgårdar. Lär dig hur du kan odla giftfritt genom att förebygga angrepp.\nI samverkan med Sigtuna trädgårdsförening\, Sigtuna stadsodling\, Omställning Sigtuna och Naturskyddsföreningen i Sigtunabygden \n\n\n\n\n\n\n\n\n\n\n Dela evenemanget
URL:https://arkiv.gratisuppsala.se/event/tradgardens-gladjeamnen-och-objudna-gaster/
LOCATION:Sigtunastiftelsen\, Manfred Björkqvist allé 4\, Sigtuna\, 19322
CATEGORIES:Föreläsning och Kurs
END:VEVENT
END:VCALENDAR