BEGIN:VCALENDAR
VERSION:2.0
PRODID:-//Gratis Uppsala - ECPv5.2.1//NONSGML v1.0//EN
CALSCALE:GREGORIAN
METHOD:PUBLISH
X-WR-CALNAME:Gratis Uppsala
X-ORIGINAL-URL:https://arkiv.gratisuppsala.se
X-WR-CALDESC:Händelser för Gratis Uppsala
BEGIN:VTIMEZONE
TZID:Europe/Stockholm
BEGIN:DAYLIGHT
TZOFFSETFROM:+0100
TZOFFSETTO:+0200
TZNAME:CEST
DTSTART:20160327T010000
END:DAYLIGHT
BEGIN:STANDARD
TZOFFSETFROM:+0200
TZOFFSETTO:+0100
TZNAME:CET
DTSTART:20161030T010000
END:STANDARD
END:VTIMEZONE
BEGIN:VEVENT
DTSTART;TZID=Europe/Stockholm:20161126T110000
DTEND;TZID=Europe/Stockholm:20161127T160000
DTSTAMP:20260420T034032
CREATED:20161111T080940Z
LAST-MODIFIED:20161111T082513Z
UID:9356-1480158000-1480262400@arkiv.gratisuppsala.se
SUMMARY:Traditionell julmarknad
DESCRIPTION:Slottets innergård fylls med hantverk\, mat och godis. \nFamiljevisningar i ficklampans sken kl. 13.00 och 14.00. \nPlats: Skoklosters slott Håbo. \nTid: lördag 26 novemver – söndag 27 november kl. 11.00-16.00. \nVälkommen! \nDela evenemanget
URL:https://arkiv.gratisuppsala.se/event/traditionell-julmarknad/
LOCATION:Skoklosters slott\, Skokloster slott\, Skokloster\, 74696
CATEGORIES:Marknad & Loppis
ATTACH;FMTTYPE=image/jpeg:https://arkiv.gratisuppsala.se/wp-content/uploads/2015/06/SkoklosterSlott-e1542629465881.jpg
ORGANIZER;CN="Skoklosters%20slott":MAILTO:sko.bokning@lsh.se
GEO:59.7031777;17.6211535
X-APPLE-STRUCTURED-LOCATION;VALUE=URI;X-ADDRESS=Skoklosters slott Skokloster slott Skokloster 74696;X-APPLE-RADIUS=500;X-TITLE=Skokloster slott:geo:17.6211535,59.7031777
END:VEVENT
END:VCALENDAR