BEGIN:VCALENDAR
VERSION:2.0
PRODID:-//Gratis Uppsala - ECPv5.2.1//NONSGML v1.0//EN
CALSCALE:GREGORIAN
METHOD:PUBLISH
X-WR-CALNAME:Gratis Uppsala
X-ORIGINAL-URL:https://arkiv.gratisuppsala.se
X-WR-CALDESC:Händelser för Gratis Uppsala
BEGIN:VTIMEZONE
TZID:Europe/Stockholm
BEGIN:DAYLIGHT
TZOFFSETFROM:+0100
TZOFFSETTO:+0200
TZNAME:CEST
DTSTART:20150329T010000
END:DAYLIGHT
BEGIN:STANDARD
TZOFFSETFROM:+0200
TZOFFSETTO:+0100
TZNAME:CET
DTSTART:20151025T010000
END:STANDARD
END:VTIMEZONE
BEGIN:VEVENT
DTSTART;TZID=Europe/Stockholm:20151018T121500
DTEND;TZID=Europe/Stockholm:20151018T143000
DTSTAMP:20260420T011536
CREATED:20151015T110721Z
LAST-MODIFIED:20151015T110721Z
UID:4163-1445170500-1445178600@arkiv.gratisuppsala.se
SUMMARY:Träff för regnbågsfamiljer
DESCRIPTION:Träff för regnbågsfamiljer\nUngefär en söndag i månaden träffas familjerna i öppna förskolans lokaler\, leker\, fikar och umgås. Enklare fika kan köpas till billig peng. \nTräffen äger rum i öppna förskolans lokaler\, Tunabergskyrkan\,  ingång från baksidan\, mellan 11.15 och 13.30 söndag 18 oktober. \nDela evenemanget
URL:https://arkiv.gratisuppsala.se/event/traff-for-regnbagsfamiljer/
LOCATION:Tunabergskyrkan\, öppna förskolan\, Tunagatan 29\, Uppsala\, 75337
ATTACH;FMTTYPE=image/jpeg:https://arkiv.gratisuppsala.se/wp-content/uploads/2015/10/imgres.jpg
GEO:59.8781945;17.6193982
X-APPLE-STRUCTURED-LOCATION;VALUE=URI;X-ADDRESS=Tunabergskyrkan öppna förskolan Tunagatan 29 Uppsala 75337;X-APPLE-RADIUS=500;X-TITLE=Tunagatan 29:geo:17.6193982,59.8781945
END:VEVENT
END:VCALENDAR