BEGIN:VCALENDAR
VERSION:2.0
PRODID:-//Gratis Uppsala - ECPv5.2.1//NONSGML v1.0//EN
CALSCALE:GREGORIAN
METHOD:PUBLISH
X-WR-CALNAME:Gratis Uppsala
X-ORIGINAL-URL:https://arkiv.gratisuppsala.se
X-WR-CALDESC:Händelser för Gratis Uppsala
BEGIN:VTIMEZONE
TZID:Europe/Stockholm
BEGIN:DAYLIGHT
TZOFFSETFROM:+0100
TZOFFSETTO:+0200
TZNAME:CEST
DTSTART:20160327T010000
END:DAYLIGHT
BEGIN:STANDARD
TZOFFSETFROM:+0200
TZOFFSETTO:+0100
TZNAME:CET
DTSTART:20161030T010000
END:STANDARD
END:VTIMEZONE
BEGIN:VEVENT
DTSTART;TZID=Europe/Stockholm:20160410T121500
DTEND;TZID=Europe/Stockholm:20160408T180000
DTSTAMP:20260419T203702
CREATED:20160408T104248Z
LAST-MODIFIED:20160408T104248Z
UID:6675-1460290500-1460138400@arkiv.gratisuppsala.se
SUMMARY:Träffar för regnbågsfamiljer
DESCRIPTION:Regnbågsträffar. \nTräffar för regnbågsfamiljer. Vi ses i öppna förskolans lokaler. Fikar och umgås tillsammans. \nDela evenemanget
URL:https://arkiv.gratisuppsala.se/event/traffar-for-regnbagsfamiljer/
LOCATION:Tunabergskyrkan\, öppna förskolan\, Tunagatan 29\, Uppsala\, 75337
ATTACH;FMTTYPE=image/jpeg:https://arkiv.gratisuppsala.se/wp-content/uploads/2016/04/regnbåge.jpg
GEO:59.8781945;17.6193982
X-APPLE-STRUCTURED-LOCATION;VALUE=URI;X-ADDRESS=Tunabergskyrkan öppna förskolan Tunagatan 29 Uppsala 75337;X-APPLE-RADIUS=500;X-TITLE=Tunagatan 29:geo:17.6193982,59.8781945
END:VEVENT
END:VCALENDAR