BEGIN:VCALENDAR
VERSION:2.0
PRODID:-//Gratis Uppsala - ECPv5.2.1//NONSGML v1.0//EN
CALSCALE:GREGORIAN
METHOD:PUBLISH
X-WR-CALNAME:Gratis Uppsala
X-ORIGINAL-URL:https://arkiv.gratisuppsala.se
X-WR-CALDESC:Händelser för Gratis Uppsala
BEGIN:VTIMEZONE
TZID:Europe/Stockholm
BEGIN:DAYLIGHT
TZOFFSETFROM:+0100
TZOFFSETTO:+0200
TZNAME:CEST
DTSTART:20150329T010000
END:DAYLIGHT
BEGIN:STANDARD
TZOFFSETFROM:+0200
TZOFFSETTO:+0100
TZNAME:CET
DTSTART:20151025T010000
END:STANDARD
END:VTIMEZONE
BEGIN:VEVENT
DTSTART;TZID=Europe/Stockholm:20151111T133000
DTEND;TZID=Europe/Stockholm:20151111T133000
DTSTAMP:20260419T214631
CREATED:20151108T081220Z
LAST-MODIFIED:20151108T084304Z
UID:4498-1447248600-1447248600@arkiv.gratisuppsala.se
SUMMARY:Träffpunkt Eriksberg: ljudbok
DESCRIPTION:För dig över 65 år! Onsdag 11 november kl 13.30 kan man lyssna på en ljudbok; Brandvägg av Henning Mankell på Träffpunkt Eriksberg. \nBild: pixabay.com. \nDela evenemanget
URL:https://arkiv.gratisuppsala.se/event/traffpunkt-eriksberg-ljudbok/
LOCATION:Sverige
CATEGORIES:60+
ATTACH;FMTTYPE=image/jpeg:https://arkiv.gratisuppsala.se/wp-content/uploads/2015/11/ljudbok.jpg
ORGANIZER;CN="Uppsala%20kommun":MAILTO:uppsala.kommun@uppsala.se
END:VEVENT
END:VCALENDAR