BEGIN:VCALENDAR
VERSION:2.0
PRODID:-//Gratis Uppsala - ECPv5.2.1//NONSGML v1.0//EN
CALSCALE:GREGORIAN
METHOD:PUBLISH
X-WR-CALNAME:Gratis Uppsala
X-ORIGINAL-URL:https://arkiv.gratisuppsala.se
X-WR-CALDESC:Händelser för Gratis Uppsala
BEGIN:VTIMEZONE
TZID:Europe/Stockholm
BEGIN:DAYLIGHT
TZOFFSETFROM:+0100
TZOFFSETTO:+0200
TZNAME:CEST
DTSTART:20150329T010000
END:DAYLIGHT
BEGIN:STANDARD
TZOFFSETFROM:+0200
TZOFFSETTO:+0100
TZNAME:CET
DTSTART:20151025T010000
END:STANDARD
END:VTIMEZONE
BEGIN:VEVENT
DTSTART;TZID=Europe/Stockholm:20151004T190000
DTEND;TZID=Europe/Stockholm:20151004T200000
DTSTAMP:20260423T103101
CREATED:20150925T114710Z
LAST-MODIFIED:20150925T114710Z
UID:3950-1443985200-1443988800@arkiv.gratisuppsala.se
SUMMARY:Tranströmer och Gud: om tro och andlighet i Tomas Tranströmers poesi
DESCRIPTION:Vid tre tillfällen i höst uppmärksammas den nyligen bortgångne poeten Tomas Tranströmer. Owe Wikström\, professor i religionspsykologi\, samtalar med prästen Jonas Lindberg om tro och andlighet i Tomas Tranströmers poesi. \nUppsala Domkyrka söndag 4 oktober kl 18.00. \nDela evenemanget
URL:https://arkiv.gratisuppsala.se/event/transtromer-och-gud-om-tro-och-andlighet-i-tomas-transtromers-poesi/
LOCATION:Uppsala domkyrka\, Domkyrkoplan 5\, Uppsala\, 75310\, Sverige
ATTACH;FMTTYPE=image/jpeg:https://arkiv.gratisuppsala.se/wp-content/uploads/2015/05/domkyrkan-1-e1439190582327.jpg
GEO:59.8584471;17.6332992
X-APPLE-STRUCTURED-LOCATION;VALUE=URI;X-ADDRESS=Uppsala domkyrka Domkyrkoplan 5 Uppsala 75310 Sverige;X-APPLE-RADIUS=500;X-TITLE=Domkyrkoplan 5:geo:17.6332992,59.8584471
END:VEVENT
END:VCALENDAR