BEGIN:VCALENDAR
VERSION:2.0
PRODID:-//Gratis Uppsala - ECPv5.2.1//NONSGML v1.0//EN
CALSCALE:GREGORIAN
METHOD:PUBLISH
X-WR-CALNAME:Gratis Uppsala
X-ORIGINAL-URL:https://arkiv.gratisuppsala.se
X-WR-CALDESC:Händelser för Gratis Uppsala
BEGIN:VTIMEZONE
TZID:Europe/Stockholm
BEGIN:DAYLIGHT
TZOFFSETFROM:+0100
TZOFFSETTO:+0200
TZNAME:CEST
DTSTART:20150329T010000
END:DAYLIGHT
BEGIN:STANDARD
TZOFFSETFROM:+0200
TZOFFSETTO:+0100
TZNAME:CET
DTSTART:20151025T010000
END:STANDARD
END:VTIMEZONE
BEGIN:VEVENT
DTSTART;TZID=Europe/Stockholm:20150927T190000
DTEND;TZID=Europe/Stockholm:20150927T200000
DTSTAMP:20260422T141239
CREATED:20150925T111925Z
LAST-MODIFIED:20150926T161737Z
UID:3949-1443380400-1443384000@arkiv.gratisuppsala.se
SUMMARY:Tranströmer och Gud: Valv bakom valv oändligt
DESCRIPTION:Vid tre tillfällen i höst uppmärksammas den nyligen bortgångne poeten Tomas Tranströmer. \nSöndag 27 september kl 18 Uppsala domkyrka\n \nValv bakom valv oändligt\nPrästerna Jonas Lindberg och Kerstin Dillmar framför tillsammans med kyrkomusikern Anders Bromander dikter av Tomas Tranströmer i ord och ton. \nDela evenemanget
URL:https://arkiv.gratisuppsala.se/event/transtromer-och-gud-valv-bakom-valv-oandligt/
LOCATION:Uppsala domkyrka\, Domkyrkoplan 5\, Uppsala\, 75310\, Sverige
CATEGORIES:Sång och Musik
ATTACH;FMTTYPE=image/jpeg:https://arkiv.gratisuppsala.se/wp-content/uploads/2015/05/domkyrkan-1-e1439190582327.jpg
GEO:59.8584471;17.6332992
X-APPLE-STRUCTURED-LOCATION;VALUE=URI;X-ADDRESS=Uppsala domkyrka Domkyrkoplan 5 Uppsala 75310 Sverige;X-APPLE-RADIUS=500;X-TITLE=Domkyrkoplan 5:geo:17.6332992,59.8584471
END:VEVENT
END:VCALENDAR