BEGIN:VCALENDAR
VERSION:2.0
PRODID:-//Gratis Uppsala - ECPv5.2.1//NONSGML v1.0//EN
CALSCALE:GREGORIAN
METHOD:PUBLISH
X-WR-CALNAME:Gratis Uppsala
X-ORIGINAL-URL:https://arkiv.gratisuppsala.se
X-WR-CALDESC:Händelser för Gratis Uppsala
BEGIN:VTIMEZONE
TZID:Europe/Stockholm
BEGIN:DAYLIGHT
TZOFFSETFROM:+0100
TZOFFSETTO:+0200
TZNAME:CEST
DTSTART:20160327T010000
END:DAYLIGHT
BEGIN:STANDARD
TZOFFSETFROM:+0200
TZOFFSETTO:+0100
TZNAME:CET
DTSTART:20161030T010000
END:STANDARD
END:VTIMEZONE
BEGIN:VEVENT
DTSTART;TZID=Europe/Stockholm:20160318T100000
DTEND;TZID=Europe/Stockholm:20160314T170000
DTSTAMP:20260422T123509
CREATED:20160314T133020Z
LAST-MODIFIED:20160314T133020Z
UID:6439-1458295200-1457974800@arkiv.gratisuppsala.se
SUMMARY:Tuppen på åsnan på Björklingebiblioteket
DESCRIPTION:Tuppen på åsnan\, en musik- och berättarföreställning om det fina i att vi alla är olika.\nBjörklingebiblioteket fredag 18 mars kl 10. \nMedverkande: Charlotte Magnusson och Charlotte Gottfries. \nFör barn från 4 år och uppåt med medföljande vuxen. Antalet platser är begränsat – föranmälan till biblioteket. \nBild: pixabay.com. \nDela evenemanget
URL:https://arkiv.gratisuppsala.se/event/tuppen-pa-asnan-pa-bjorklingebiblioteket/
LOCATION:Björklingebiblioteket\, Sandbrovägen 6\, Björklinge
CATEGORIES:Teater och Bio
ATTACH;FMTTYPE=image/png:https://arkiv.gratisuppsala.se/wp-content/uploads/2016/03/Tuppen.png
ORGANIZER;CN="Bibliotek%20Uppsala":MAILTO:kundtjanst@bibliotekuppsala.se
END:VEVENT
END:VCALENDAR