BEGIN:VCALENDAR
VERSION:2.0
PRODID:-//Gratis Uppsala - ECPv5.2.1//NONSGML v1.0//EN
CALSCALE:GREGORIAN
METHOD:PUBLISH
X-WR-CALNAME:Gratis Uppsala
X-ORIGINAL-URL:https://arkiv.gratisuppsala.se
X-WR-CALDESC:Händelser för Gratis Uppsala
BEGIN:VTIMEZONE
TZID:Europe/Stockholm
BEGIN:DAYLIGHT
TZOFFSETFROM:+0100
TZOFFSETTO:+0200
TZNAME:CEST
DTSTART:20160327T010000
END:DAYLIGHT
BEGIN:STANDARD
TZOFFSETFROM:+0200
TZOFFSETTO:+0100
TZNAME:CET
DTSTART:20161030T010000
END:STANDARD
END:VTIMEZONE
BEGIN:VEVENT
DTSTART;VALUE=DATE:20160213
DTEND;VALUE=DATE:20160214
DTSTAMP:20260421T071424
CREATED:20160120T123358Z
LAST-MODIFIED:20160217T093313Z
UID:5823-1455321600-1455407999@arkiv.gratisuppsala.se
SUMMARY:Tusen vintrar - Uppsala vinterfestival
DESCRIPTION:Vintersport\, musik och Oscarsbelönad film. Isbar\, semlor och mat med hetta. Modern iskonst\, Uppsala i vinterskrud\, snögraffiti\, skridskobana och underbar stämning. Under nio förtrollande dagar i februari får du ta del av Tusen vintrar – en ny vinterfestival mitt i Uppsala centrum. Ta med en vän eller hela familjen. Alla är välkomna! \nHela programmet visas på tusenvintrar.se/program/.\nKarta över festivalens områden finns här. \n  \nPressmeddelande från Uppsala kommun:\nDen 13-21 februari 2016 arrangerar Uppsala kommun Tusen vintrar – Uppsala vinterfestival. Det är den tidigare Isfestivalen i Stadsträdgården\, som nu utvecklas till en stadsfest där is-skulpturerna som skapas på plats av is från Torne älv i Lappland är ett viktigt inslag. Ambitionen är att tillsammans med närings- och föreningslivet arrangera ett inspirerande och spännande evenemang. \n– Uppsala är en av Sveriges snabbast växande kommuner med en mix av människor\, kreativitet och framåtanda. Nu vill vi koppla ihop vår historia med framtiden och skapa en ny vinterfestival i Uppsala som dagens kommuninvånare\, blivande Uppsalabor och besökare kan identifiera sig med och känna stolthet\, spänning och förväntan inför. Det gör Uppsala till en än mer attraktiv stad året om\, säger Marlene Burwick (S). \nNamnet Tusen vintrar syftar på Uppsalas tusenåriga historia men även på en framtid med ytterligare tusen år. \nFestivalen kommer att äga rum i flera delar av centrala Uppsala. Områden\, scener och aktiviteter ska ingå i ett genomtänkt program för att locka flera olika målgrupper. Det ska vara lätt för kommunens institutioner\, näringslivet och andra aktörer att medverka med sina verksamheter och bli en del av festivalen.- Vinterfestivalen ska vara en spännande och kul arena som låter besökarna utmana sig själva och testa nya saker.\nVisionen på sikt är att Uppsala ska ha Sveriges mest kreativa vinterfestival. Ska den bli verklighet behövs skaparkraften och engagemanget hos kulturutövare\, föreningsliv och företag\, säger kulturnämndens ordförande Peter Gustavsson (S). \nTusen vintrar – Uppsala vinterfestival ska arrangeras vartannat år. Första året kanske inte alla som vill hinner vara med\, men målet är att så många som möjligt ska bidra med aktiviteter och innehåll. Destination Uppsala kommer att projektleda och marknadsföra evenemanget. \n Dela evenemanget
URL:https://arkiv.gratisuppsala.se/event/tusen-vintrar-uppsala-vinterfestival/2016-02-13/
LOCATION:Uppsala\, Uppsala\, Sverige
CATEGORIES:60+,Konst, Fotografi och Design,Teater och Bio,Utflykt / Picknick
ATTACH;FMTTYPE=image/jpeg:https://arkiv.gratisuppsala.se/wp-content/uploads/2016/01/Tusen-vintrar_stans-e1453377899272.jpg
ORGANIZER;CN="Uppsala%20kommun":MAILTO:uppsala.kommun@uppsala.se
END:VEVENT
END:VCALENDAR