BEGIN:VCALENDAR
VERSION:2.0
PRODID:-//Gratis Uppsala - ECPv5.2.1//NONSGML v1.0//EN
CALSCALE:GREGORIAN
METHOD:PUBLISH
X-WR-CALNAME:Gratis Uppsala
X-ORIGINAL-URL:https://arkiv.gratisuppsala.se
X-WR-CALDESC:Händelser för Gratis Uppsala
BEGIN:VTIMEZONE
TZID:Europe/Stockholm
BEGIN:DAYLIGHT
TZOFFSETFROM:+0100
TZOFFSETTO:+0200
TZNAME:CEST
DTSTART:20160327T010000
END:DAYLIGHT
BEGIN:STANDARD
TZOFFSETFROM:+0200
TZOFFSETTO:+0100
TZNAME:CET
DTSTART:20161030T010000
END:STANDARD
END:VTIMEZONE
BEGIN:VEVENT
DTSTART;TZID=Europe/Stockholm:20160305T110000
DTEND;TZID=Europe/Stockholm:20160305T170000
DTSTAMP:20260419T162059
CREATED:20160301T084648Z
LAST-MODIFIED:20160301T084648Z
UID:6275-1457175600-1457197200@arkiv.gratisuppsala.se
SUMMARY:Ugglor hos Biotopia
DESCRIPTION:Ugglor är helgens tema hos Biotopia 5-6 mars. \nUgglorna är kanske de mest spännande av våra vinterfåglar.\nVilka ugglor kan man höra i skogarna och på fälten runt Uppsala?\nVad äter en uggla? Undersök vilka ben man hittar i ugglans matrester.\nFölj med på en rundtur i dioramorna! \nLördag-söndag är Biotopia öppet kl 11-17. \nBild: pixabay.com. \nDela evenemanget
URL:https://arkiv.gratisuppsala.se/event/ugglor-hos-biotopia/2016-03-05/
LOCATION:Biotopia\, Vasagatan 4\, Uppsala\, 753 13\, Sverige
ATTACH;FMTTYPE=image/jpeg:https://arkiv.gratisuppsala.se/wp-content/uploads/2016/03/uggla.jpg
GEO:59.8599128;17.6227042
X-APPLE-STRUCTURED-LOCATION;VALUE=URI;X-ADDRESS=Biotopia Vasagatan 4 Uppsala 753 13 Sverige;X-APPLE-RADIUS=500;X-TITLE=Vasagatan 4:geo:17.6227042,59.8599128
END:VEVENT
END:VCALENDAR