BEGIN:VCALENDAR
VERSION:2.0
PRODID:-//Gratis Uppsala - ECPv5.2.1//NONSGML v1.0//EN
CALSCALE:GREGORIAN
METHOD:PUBLISH
X-WR-CALNAME:Gratis Uppsala
X-ORIGINAL-URL:https://arkiv.gratisuppsala.se
X-WR-CALDESC:Händelser för Gratis Uppsala
BEGIN:VTIMEZONE
TZID:Europe/Stockholm
BEGIN:DAYLIGHT
TZOFFSETFROM:+0100
TZOFFSETTO:+0200
TZNAME:CEST
DTSTART:20150329T010000
END:DAYLIGHT
BEGIN:STANDARD
TZOFFSETFROM:+0200
TZOFFSETTO:+0100
TZNAME:CET
DTSTART:20151025T010000
END:STANDARD
END:VTIMEZONE
BEGIN:VEVENT
DTSTART;TZID=Europe/Stockholm:20151016T120000
DTEND;TZID=Europe/Stockholm:20151016T130000
DTSTAMP:20260420T043955
CREATED:20151005T130612Z
LAST-MODIFIED:20151005T132757Z
UID:4052-1444996800-1445000400@arkiv.gratisuppsala.se
SUMMARY:Underhållning: Mange spelar country och rock
DESCRIPTION:Underhållning: Mange spelar country och rock. Fri entré. \nPå Träffpunkt Årsta finns möjlighet till ett aktivare liv och en meningsfull tillvaro i gemenskap med andra. Här kan du bland annat: \n\ndansa Linedance\npromenera i grupp\nspela Boule\nträna Zumba\, Core\, Qigong\, gympa eller träna i Seniorgym.\ndelta i teckningskurs\nsnickra\nväva eller göra annan hobbyverksamhet i väv- och systugan.\n\n Dela evenemanget
URL:https://arkiv.gratisuppsala.se/event/underhallning-mange-spelar-country-och-rock/
LOCATION:Träffpunkt Årsta\,  Fyrislundsgatan 66\, Uppsala\, Sverige
CATEGORIES:60+,Sång och Musik
ORGANIZER;CN="Uppsala%20kommun":MAILTO:uppsala.kommun@uppsala.se
GEO:59.8610289;17.6875953
X-APPLE-STRUCTURED-LOCATION;VALUE=URI;X-ADDRESS=Träffpunkt Årsta  Fyrislundsgatan 66 Uppsala Sverige;X-APPLE-RADIUS=500;X-TITLE=Fyrislundsgatan 66:geo:17.6875953,59.8610289
END:VEVENT
END:VCALENDAR