BEGIN:VCALENDAR
VERSION:2.0
PRODID:-//Gratis Uppsala - ECPv5.2.1//NONSGML v1.0//EN
CALSCALE:GREGORIAN
METHOD:PUBLISH
X-WR-CALNAME:Gratis Uppsala
X-ORIGINAL-URL:https://arkiv.gratisuppsala.se
X-WR-CALDESC:Händelser för Gratis Uppsala
BEGIN:VTIMEZONE
TZID:Europe/Stockholm
BEGIN:DAYLIGHT
TZOFFSETFROM:+0100
TZOFFSETTO:+0200
TZNAME:CEST
DTSTART:20160327T010000
END:DAYLIGHT
BEGIN:STANDARD
TZOFFSETFROM:+0200
TZOFFSETTO:+0100
TZNAME:CET
DTSTART:20161030T010000
END:STANDARD
END:VTIMEZONE
BEGIN:VEVENT
DTSTART;TZID=Europe/Stockholm:20160521T110000
DTEND;TZID=Europe/Stockholm:20160521T190000
DTSTAMP:20260420T041308
CREATED:20160516T091821Z
LAST-MODIFIED:20160516T091821Z
UID:7011-1463828400-1463857200@arkiv.gratisuppsala.se
SUMMARY:Upplands starkaste man/kvinna
DESCRIPTION:Upplands starkaste man/kvinna. \nStarka män och kvinnor kommer att samlas på torget för att göra upp om titeln Upplands starkaste. I sex grenar kommer deras styrka att sättas på prov i denna giganternas kamp. Två av momenten är att gå med 330 kg ok på axlarna och välta ett 440 kg tungt däck! \nTävlingen är öppen för alla dock kan endast en sann upplänning ta hem titeln. \nDela evenemanget
URL:https://arkiv.gratisuppsala.se/event/upplands-starkaste-mankvinna/
LOCATION:Vaksala torg\, Vaksala torg\, Uppsala\, 75331\, Sverige
CATEGORIES:Sport & Motion
ATTACH;FMTTYPE=image/jpeg:https://arkiv.gratisuppsala.se/wp-content/uploads/2016/05/lyfter.jpg
GEO:59.8616044;17.647004
X-APPLE-STRUCTURED-LOCATION;VALUE=URI;X-ADDRESS=Vaksala torg Vaksala torg Uppsala 75331 Sverige;X-APPLE-RADIUS=500;X-TITLE=Vaksala torg:geo:17.647004,59.8616044
END:VEVENT
END:VCALENDAR