BEGIN:VCALENDAR
VERSION:2.0
PRODID:-//Gratis Uppsala - ECPv5.2.1//NONSGML v1.0//EN
CALSCALE:GREGORIAN
METHOD:PUBLISH
X-WR-CALNAME:Gratis Uppsala
X-ORIGINAL-URL:https://arkiv.gratisuppsala.se
X-WR-CALDESC:Händelser för Gratis Uppsala
BEGIN:VTIMEZONE
TZID:Europe/Stockholm
BEGIN:DAYLIGHT
TZOFFSETFROM:+0100
TZOFFSETTO:+0200
TZNAME:CEST
DTSTART:20160327T010000
END:DAYLIGHT
BEGIN:STANDARD
TZOFFSETFROM:+0200
TZOFFSETTO:+0100
TZNAME:CET
DTSTART:20161030T010000
END:STANDARD
END:VTIMEZONE
BEGIN:VEVENT
DTSTART;TZID=Europe/Stockholm:20161024T200000
DTEND;TZID=Europe/Stockholm:20161024T210000
DTSTAMP:20260420T085317
CREATED:20160913T103257Z
LAST-MODIFIED:20160913T104744Z
UID:8310-1477339200-1477342800@arkiv.gratisuppsala.se
SUMMARY:Uppsala kulturskola tar sig ton
DESCRIPTION:Konsert med elever vid Uppsala musikskola i samband med utdelningen av Musikens Hus Vänners stipendier.  \nFritt inträde. Arrangeras i samarbete med Musikens Hus Vänner.\nStartar: 19:00\nSlutar: 20:00 \nUppsala Konsert & Kongress\, B-salen \nDela evenemanget
URL:https://arkiv.gratisuppsala.se/event/uppsala-kulturskola-tar-sig-ton/
LOCATION:Uppsala Konsert & Kongress\, Vaksalatorg 1\, Uppsala
CATEGORIES:Sång och Musik
ATTACH;FMTTYPE=image/jpeg:https://arkiv.gratisuppsala.se/wp-content/uploads/2015/12/fiolmusik.jpg
GEO:59.8614429;17.6460839
X-APPLE-STRUCTURED-LOCATION;VALUE=URI;X-ADDRESS=Uppsala Konsert & Kongress Vaksalatorg 1 Uppsala;X-APPLE-RADIUS=500;X-TITLE=Vaksalatorg 1:geo:17.6460839,59.8614429
END:VEVENT
END:VCALENDAR