BEGIN:VCALENDAR
VERSION:2.0
PRODID:-//Gratis Uppsala - ECPv5.2.1//NONSGML v1.0//EN
CALSCALE:GREGORIAN
METHOD:PUBLISH
X-WR-CALNAME:Gratis Uppsala
X-ORIGINAL-URL:https://arkiv.gratisuppsala.se
X-WR-CALDESC:Händelser för Gratis Uppsala
BEGIN:VTIMEZONE
TZID:Europe/Stockholm
BEGIN:DAYLIGHT
TZOFFSETFROM:+0100
TZOFFSETTO:+0200
TZNAME:CEST
DTSTART:20170326T010000
END:DAYLIGHT
BEGIN:STANDARD
TZOFFSETFROM:+0200
TZOFFSETTO:+0100
TZNAME:CET
DTSTART:20171029T010000
END:STANDARD
END:VTIMEZONE
BEGIN:VEVENT
DTSTART;TZID=Europe/Stockholm:20170304T100000
DTEND;TZID=Europe/Stockholm:20170304T140000
DTSTAMP:20260420T145558
CREATED:20170302T095447Z
LAST-MODIFIED:20170302T095447Z
UID:12272-1488621600-1488636000@arkiv.gratisuppsala.se
SUMMARY:Uppsala Landsbygdsmässa 2017
DESCRIPTION:Kom och prata bygglov\, solceller eller varför inte vatten\, avlopp och annan service som är viktig för en levande landsbygd. \n\n\nVälkommen till Uppsala Landsbygdsmässa. Här berättar vi om utvecklingen och framtiden på landsbygden. Kom och prata bygglov\, solceller eller varför inte vatten\, avlopp och annan service som är viktig för en levande landsbygd. På mässan träffar du politiker\, tjänstepersoner och andra aktörer som är med och bidrar till framtidens landsbygd. \nDu kommer även kunna testa elcyklar och besöka bokbussen. \nDet kommer dessutom finnas aktiviteter och pyssel för de allra minsta. \nFri entre. \n\n Dela evenemanget
URL:https://arkiv.gratisuppsala.se/event/uppsala-landsbygdsmassa-2017/
CATEGORIES:Konst, Fotografi och Design,Kulturnatten
ATTACH;FMTTYPE=image/jpeg:https://arkiv.gratisuppsala.se/wp-content/uploads/2017/03/landsbygdsmassa_ukk-bild1.jpg
ORGANIZER;CN="Uppsala%20Konsert%20%26%20Kongress":MAILTO:info@ukk.se
END:VEVENT
END:VCALENDAR