BEGIN:VCALENDAR
VERSION:2.0
PRODID:-//Gratis Uppsala - ECPv5.2.1//NONSGML v1.0//EN
CALSCALE:GREGORIAN
METHOD:PUBLISH
X-WR-CALNAME:Gratis Uppsala
X-ORIGINAL-URL:https://arkiv.gratisuppsala.se
X-WR-CALDESC:Händelser för Gratis Uppsala
BEGIN:VTIMEZONE
TZID:Europe/Stockholm
BEGIN:DAYLIGHT
TZOFFSETFROM:+0100
TZOFFSETTO:+0200
TZNAME:CEST
DTSTART:20150329T010000
END:DAYLIGHT
BEGIN:STANDARD
TZOFFSETFROM:+0200
TZOFFSETTO:+0100
TZNAME:CET
DTSTART:20151025T010000
END:STANDARD
END:VTIMEZONE
BEGIN:VEVENT
DTSTART;TZID=Europe/Stockholm:20151201T180000
DTEND;TZID=Europe/Stockholm:20151201T193000
DTSTAMP:20260419T185030
CREATED:20151127T103404Z
LAST-MODIFIED:20151127T103404Z
UID:4953-1448992800-1448998200@arkiv.gratisuppsala.se
SUMMARY:Uppsala Lucia i Mikaelskyrkan
DESCRIPTION:Kom och se Uppsala Lucia med tärnor sprida julstämning i vintermörkret. Helt gratis\, bjud in dina nära och kära! \nFramförandet kommer att tv-inspelas och sedan sändas på 24UNT på luciamorgonen. \nMikaelskyrkan den 1 december kl. 18.00 \nFritt inträde \nDela evenemanget
URL:https://arkiv.gratisuppsala.se/event/uppsala-lucia-i-mikaelskyrkan/
LOCATION:Mikaelskyrkan\, Skolgatan 26\, Uppsala\, Sverige
CATEGORIES:Sång och Musik
ATTACH;FMTTYPE=image/jpeg:https://arkiv.gratisuppsala.se/wp-content/uploads/2015/11/Luciabild_UNT_438pxl1.jpg
GEO:59.8645537;17.6345863
X-APPLE-STRUCTURED-LOCATION;VALUE=URI;X-ADDRESS=Mikaelskyrkan Skolgatan 26 Uppsala Sverige;X-APPLE-RADIUS=500;X-TITLE=Skolgatan 26:geo:17.6345863,59.8645537
END:VEVENT
END:VCALENDAR