BEGIN:VCALENDAR
VERSION:2.0
PRODID:-//Gratis Uppsala - ECPv5.2.1//NONSGML v1.0//EN
CALSCALE:GREGORIAN
METHOD:PUBLISH
X-WR-CALNAME:Gratis Uppsala
X-ORIGINAL-URL:https://arkiv.gratisuppsala.se
X-WR-CALDESC:Händelser för Gratis Uppsala
BEGIN:VTIMEZONE
TZID:Europe/Stockholm
BEGIN:DAYLIGHT
TZOFFSETFROM:+0100
TZOFFSETTO:+0200
TZNAME:CEST
DTSTART:20160327T010000
END:DAYLIGHT
BEGIN:STANDARD
TZOFFSETFROM:+0200
TZOFFSETTO:+0100
TZNAME:CET
DTSTART:20161030T010000
END:STANDARD
END:VTIMEZONE
BEGIN:VEVENT
DTSTART;TZID=Europe/Stockholm:20160514T110000
DTEND;TZID=Europe/Stockholm:20160514T180000
DTSTAMP:20260420T015027
CREATED:20160209T091919Z
LAST-MODIFIED:20160209T091919Z
UID:6102-1463223600-1463248800@arkiv.gratisuppsala.se
SUMMARY:Utbildningen Fånga engagemanaget
DESCRIPTION:Vad har du och din verksamhet för behov och utvecklingsönskemål? Vill ni bli fler i er verksamhet men vet inte hur ni hittar dem? Söker ni nya vägar för att motivera de frivilliga i organisationen? Saknar ni konkreta verktyg för att organisera och administrera frivilligverksamheten? \nDenna dag om att fånga engagemanget ger dig konkreta verktyg för att ta tillvara på engagemanget och involvera fler frivilliga i verksamheten. \n\nUr innehållet;\nIdeellt engagemang i Sverige\, så ser det ut.\nIndividens drivkrafter och motivation.\nOrganisationens förutsättningar.\nFramtidens engagemang. \nPraktisk information;\n\nKursledare: Johan Dahlén\nDeltagare: Ideella föreningar med volontärer i verksamheten och verksamma i Uppsala kommun eller med avsikt att starta volontärverksamhet.\nKostnad: Utbildningen är kostnadsfri tack vare vårt stöd från Uppsala kommun.\nAnmälan: Senast den 8 maj 2016\nAvanmälan: Har du inte längre möjlighet att komma vill vi att du avanmäler då så snart som möjligt. Uteblir du från utbildningen utan avanmälan så tas en avgift ut på 500 kr som faktureras. Detta som ersättning för våra utlägg och vår förberedelsetid.\nFrågor besvaras av Johan Dahlén; johan.dahlen@volontarbyran.orgeller telefon 070-226 32 06070-226 32 06 \nDela evenemanget
URL:https://arkiv.gratisuppsala.se/event/utbildningen-fanga-engagemanaget/
CATEGORIES:Föreläsning och Kurs
ORGANIZER;CN="Volont%C3%A4rbyr%C3%A5n%20Uppsala":MAILTO:info@volontarbyran.org
END:VEVENT
END:VCALENDAR