BEGIN:VCALENDAR
VERSION:2.0
PRODID:-//Gratis Uppsala - ECPv5.2.1//NONSGML v1.0//EN
CALSCALE:GREGORIAN
METHOD:PUBLISH
X-WR-CALNAME:Gratis Uppsala
X-ORIGINAL-URL:https://arkiv.gratisuppsala.se
X-WR-CALDESC:Händelser för Gratis Uppsala
BEGIN:VTIMEZONE
TZID:Europe/Stockholm
BEGIN:DAYLIGHT
TZOFFSETFROM:+0100
TZOFFSETTO:+0200
TZNAME:CEST
DTSTART:20160327T010000
END:DAYLIGHT
BEGIN:STANDARD
TZOFFSETFROM:+0200
TZOFFSETTO:+0100
TZNAME:CET
DTSTART:20161030T010000
END:STANDARD
END:VTIMEZONE
BEGIN:VEVENT
DTSTART;TZID=Europe/Stockholm:20161228T120000
DTEND;TZID=Europe/Stockholm:20161228T190000
DTSTAMP:20260420T162722
CREATED:20161220T100340Z
LAST-MODIFIED:20161222T110536Z
UID:9934-1482926400-1482951600@arkiv.gratisuppsala.se
SUMMARY:Utställning -Is- yttre rymden.
DESCRIPTION:En dag på isen i Östa\, Dalälven i december 2015.\nFotografer: Erik Gröndahl och Carina Karlsson \nVälkommen! \nTärnsjö bibliotek\, 28 december – 27 januari \nBild: Pixabay \n\n\n\n\n Dela evenemanget
URL:https://arkiv.gratisuppsala.se/event/utstallning-yttre-rymden/
LOCATION:Folkets Hus Tärnsjö\, Norra Storgatan 26\, Tärnsjö\, 74045\, Sverige
ATTACH;FMTTYPE=image/jpeg:https://arkiv.gratisuppsala.se/wp-content/uploads/2016/12/frosted-204921_640.jpg
GEO:60.1567938;16.932622
X-APPLE-STRUCTURED-LOCATION;VALUE=URI;X-ADDRESS=Folkets Hus Tärnsjö Norra Storgatan 26 Tärnsjö 74045 Sverige;X-APPLE-RADIUS=500;X-TITLE=Norra Storgatan 26:geo:16.932622,60.1567938
END:VEVENT
END:VCALENDAR