BEGIN:VCALENDAR
VERSION:2.0
PRODID:-//Gratis Uppsala - ECPv5.2.1//NONSGML v1.0//EN
CALSCALE:GREGORIAN
METHOD:PUBLISH
X-WR-CALNAME:Gratis Uppsala
X-ORIGINAL-URL:https://arkiv.gratisuppsala.se
X-WR-CALDESC:Händelser för Gratis Uppsala
BEGIN:VTIMEZONE
TZID:Europe/Stockholm
BEGIN:DAYLIGHT
TZOFFSETFROM:+0100
TZOFFSETTO:+0200
TZNAME:CEST
DTSTART:20160327T010000
END:DAYLIGHT
BEGIN:STANDARD
TZOFFSETFROM:+0200
TZOFFSETTO:+0100
TZNAME:CET
DTSTART:20161030T010000
END:STANDARD
END:VTIMEZONE
BEGIN:VEVENT
DTSTART;TZID=Europe/Stockholm:20160618T130000
DTEND;TZID=Europe/Stockholm:20160821T180000
DTSTAMP:20260421T064218
CREATED:20160512T081202Z
LAST-MODIFIED:20160613T121243Z
UID:6968-1466254800-1471802400@arkiv.gratisuppsala.se
SUMMARY:Utställningar i Rådhussalen Öregrund
DESCRIPTION:Utställningar i Rådhussalen\, Öregrund – en blandning av fantastiska konstnärer ställer ut sina verk under sommaren. \nUtställare: \n18-24 juni\nAnna Asplund och Catarina Kylberg\, fina målningar. \n25 juni – 1 juli\nAstrid Forselius -Retrospektiv utställning över en av Öregrunds mest älskade konstnärer. \n2-8 juli\nRolls Galleri\, Uppsala – Ett urval\nRolls Galleri i Uppsala visar verk av bland andra Angelica Wiik och Åke Ahlberg. \n9-15 juli\nÖsthammars konstnärsförening\nEn samlingsutställning där flera av Östhammars konstnärsförenings medlemmar medverkar. \n16-22 juli\nMargareta Jansson – En stjärna föds. Textilutställning \n23-29 juli\nEva Mattsson – Konst till glädje och harmoni \n30 juli-5 augusti\nMarianne Skoglund \n6-12 augusti\nTed Stanley \n13-21 augusti Andréas Hedberg – Invigning badortsdagen lördag den 13:e augusti. Andréas Hedberg skildrar människor\, fåglar och andra djur med ljus och stämningar som vill vara en påminnelse om att öppna våra sinnen för livet. \nLäs mer här. \nFoto: svetur.se. \nDela evenemanget
URL:https://arkiv.gratisuppsala.se/event/utstallningar-i-radhussalen-oregrund/
CATEGORIES:Konst, Fotografi och Design
ATTACH;FMTTYPE=image/jpeg:https://arkiv.gratisuppsala.se/wp-content/uploads/2016/05/Utstallningsprogrammet-i-Radhussalen-Oregrund_0.jpg
END:VEVENT
END:VCALENDAR