BEGIN:VCALENDAR
VERSION:2.0
PRODID:-//Gratis Uppsala - ECPv5.2.1//NONSGML v1.0//EN
CALSCALE:GREGORIAN
METHOD:PUBLISH
X-WR-CALNAME:Gratis Uppsala
X-ORIGINAL-URL:https://arkiv.gratisuppsala.se
X-WR-CALDESC:Händelser för Gratis Uppsala
BEGIN:VTIMEZONE
TZID:Europe/Stockholm
BEGIN:DAYLIGHT
TZOFFSETFROM:+0100
TZOFFSETTO:+0200
TZNAME:CEST
DTSTART:20150329T010000
END:DAYLIGHT
BEGIN:STANDARD
TZOFFSETFROM:+0200
TZOFFSETTO:+0100
TZNAME:CET
DTSTART:20151025T010000
END:STANDARD
END:VTIMEZONE
BEGIN:VEVENT
DTSTART;TZID=Europe/Stockholm:20150905T120000
DTEND;TZID=Europe/Stockholm:20150905T180000
DTSTAMP:20260420T072107
CREATED:20150825T125519Z
LAST-MODIFIED:20150825T131437Z
UID:3469-1441454400-1441476000@arkiv.gratisuppsala.se
SUMMARY:Väg 282 - en kul tur
DESCRIPTION:Längs väg 282 öppnar hantverkare\, konstnärer och kulturanläggningar sina dörrar lite extra mycket. Under dagen kan du även titta på barnteater\, lyssna på musik och höra ett föredrag om att ta tillvara på skörden. \nDela evenemanget
URL:https://arkiv.gratisuppsala.se/event/vag-282-en-kul-tur/
CATEGORIES:Föreläsning och Kurs,Kropp och Själ,Marknad & Loppis,Samhälle,Teater och Bio,Utflykt / Picknick,Utställning
ATTACH;FMTTYPE=image/jpeg:https://arkiv.gratisuppsala.se/wp-content/uploads/2015/07/pplen1-e1439198166141.jpg
END:VEVENT
END:VCALENDAR