BEGIN:VCALENDAR
VERSION:2.0
PRODID:-//Gratis Uppsala - ECPv5.2.1//NONSGML v1.0//EN
CALSCALE:GREGORIAN
METHOD:PUBLISH
X-WR-CALNAME:Gratis Uppsala
X-ORIGINAL-URL:https://arkiv.gratisuppsala.se
X-WR-CALDESC:Händelser för Gratis Uppsala
BEGIN:VTIMEZONE
TZID:Europe/Stockholm
BEGIN:DAYLIGHT
TZOFFSETFROM:+0100
TZOFFSETTO:+0200
TZNAME:CEST
DTSTART:20170326T010000
END:DAYLIGHT
BEGIN:STANDARD
TZOFFSETFROM:+0200
TZOFFSETTO:+0100
TZNAME:CET
DTSTART:20171029T010000
END:STANDARD
END:VTIMEZONE
BEGIN:VEVENT
DTSTART;TZID=Europe/Stockholm:20170403T150000
DTEND;TZID=Europe/Stockholm:20170403T180000
DTSTAMP:20260419T190333
CREATED:20170323T100743Z
LAST-MODIFIED:20170323T100743Z
UID:12757-1491231600-1491242400@arkiv.gratisuppsala.se
SUMMARY:Temavecka 3-5 april: Vägen till psykisk hälsa
DESCRIPTION:Temavecka om psykisk hälsa 3-5 april\nKom till Infoteket om funktionshinder och lyssna på personer med erfarenhet av psykisk ohälsa berätta om sin återhämtning! Anmäl dig till Infoteket på  infoteket@regionuppsala.se eller 018-611 66 77. \nPROGRAM\n\n3 april\n14-15.20 “Livet med autism”\, Jill Carlberg Söderlund \nJill\, egenföretagare och attitydambassadör för (H)järnkoll\, berättar om hur hon får vardag och jobb att fungera. Hon fick sin diagnos\, Asperger Syndrom\, redan när hon var 10 år. Utredningen gjordes för att skolsituationen var ohållbar\, Jill var icke-stereotypt utåtagerande och mycket våldsam. Efter diagnosen konstaterades det att utbrotten var en följd av frustration inför en oförstående omvärld. Hon berättar öppet om hur det är att få utbrott\, om vad omvärlden kan göra\, om gränsdragningsproblematik\, självmedicinering\, yrkesliv och om hur det är att skaffa och behålla vänner när man inte alltid vet vad man ska göra med dem. \n15.40-17.00 ”Vägar ur depression”\, Heléne Sivertsson \nHeléne\, styrelsemedlem i Föreningen Balans Uppsala\, berättar om sina erfarenheter av utmattningssyndrom och dystymi\, vägen tillbaka och hur hon fortsätter att jobba med sig själv för att må bra. Kronisk depression är ett annat namn för dystymi\, och som namnet antyder har man sjukdomen under lång tid och kan få så kallad dubbel depression\, det vill säga depression och dystymi samtidigt och då går det inte att skilja från depressionen. Dystymi uppvisar stora likheter med depression\, men skillnader finns. Man kan beskriva dystymi som en “utspädd depression”. Sällan blir den lika djup och förlamande som en egentlig depression\, men tyvärr desto mer långvarig. \n  \n4 april\n14-15.20 “Passivitet\, kaos och ordning” (bipolär)\, Carl-Johan Bachofner \nCarl-Johan\, verksam som poet och med verksamhet inom hälsa och friskvård\, lyfter frågor utifrån dikter som han själv har skrivit och som bygger på egna och andras erfarenheter. Kaos och struktur är återkommande teman. Många konstnärer och vetenskapsmän är bipolära eller deprimerade. De får betala för sin kreativitet. Men om alla var på mitten blev det ingen diversitet och då går ett samhälle under. Vi måste ha både det normala och ytterligheter\, hävdar Carl-Johan. \nCarl-Johan leder också promenader som hjälper människor i kaos att komma i balans. Promenaderna ger struktur\, social samvaro och hälsa. Sedan 5 år har han lett självhjälpsgrupper för människor med psykiska hinder och ingår i projekt för anhöriga på akademiska sjukhuset. I sin poesi såväl som inom sitt arbete och i sina diskussioner med människor\, är han en nyfiken\, filosoferande\, fördomsfri problemlösare med ett stort och varmt hjärta. \n  \n15.40-17.00 ”Det är inte bara min historia\, det är vår historia” (PTSD och DID)\, Yasmine Ejner Lind \nMed en blandning av humor och allvar kommer Yasmine\, egenföretagare och attitydambassadör för (H)järnkoll\, att berätta om konsekvenserna av långvariga\, upprepade trauman i barndomen. Hon kommer ur eget perspektiv förklara hur vardagen ser ut med dissociativ identitetsstörning (DID)\, en diagnos som fortfarande omges av många fördomar och som det ännu saknas mycket kunskap om inom vården och psykiatrin. Hon kommer fokusera på hur konsekvenserna av trauma i barndomen kan se ut i vuxen ålder\, vilken vård som varit trygg och vilken som skadat ännu mer\, och framförallt hur hon själv lärt sig hantera sitt sätt att fungera bättre. \nHur upplevs världen när det inte bara finns ett jag som hanterar vardagen\, med de känslor och minnen som hör till?\nYasmines förhoppning är att kunna slå hål på de fördomar som finns och visa att det ofta inte är en så tydlig och synlig problematik som många tror. Hon beskriver sig själv som en skapande artist och det som driver henne är att inget lidande får vara förgäves. Från att vara otrygg i alla aspekter av livet har Yasmine nu en trygg mark att stå på. Det ger henne möjligheten att använda sig av sina erfarenheter för att ge kunskap\, hopp och inspiration till andra. \n  \n5 april\n14-15.45 Mer än ”Bara Lite Ångest”\, Petra Rohrer och Jouanita Törnström \nUngefär 25 procent av befolkningen har någon gång upplevt ångest. Men vad menar vi egentligen med ordet Ångest? Hur påverkas vi av ångest? Vilka är symtomen\, riskfaktorerna och hur bemöter vi någon med ångest? Petra\, vice ordf. i Uppsala Ångestsyndromsällskap ÅSS\, utvecklingsledare för Forum för brukarinflytande\, attitydambassadör för (H)järnkoll\, brukarrevisor (BRiU) m.m.  och Jouanita\, legitimerad sjuksköterska och Återhämtningskonsult inom psykiatri med en lång och gedigen erfarenhet som föreläsare utifrån egen erfarenhet av psykisk ohälsa och som kursledare för RSMH (Riks förbundet för Social och Mental hälsa)\, föreläser utifrån egna erfarenheter. \nDe reder ut begreppet ångest och förklarar vad det är\, men också hur riktiga panikattacker kan upplevas. Vi får också ta del av Petras erfarenhet av PTSD (Post Traumatiskt Stressyndrom). Följ med på denna föreläsningsresa som innebär Mer än ”Bara Lite Ångest”. \n16-17.20 ”Mönster i Mina Monster” (psykos och schizofreni)\, Henrik Söder \nHenriks\, återhämtningskonsult\, jurist och attitydambassadör åt föreningen (H)järnkoll\,  sjukdomshistoria är lång och svår men han är idag återhämtad från ångestsyndrom\, tvångsproblematik\, depression\, mani\, schizofreni och schizoaffektiv sjukdom. Han berättar om sin långa tuffa resa tillbaka med arbete\, fru och två barn\, som nu är nästan helt utflugna med egna liv. Henrik försöker förklara hur en psykos känns\, hur den uppkommer och vad man\, i hans fall\, kan göra åt det. Han beskriver det hela med distans och humor samt med bilder och scener hur sjukdomen uppkommit och bemästrats. \n  \nANMÄLAN OCH PLATS \n\nAnmäl dig till:\ninfoteket@regionuppsala.se eller 018-611 66 77. \nPlats: Infoteket om funktionhinder\, St Johannesgatan 28 D\, Uppsala. \nInfoteket serverar fika till självkostnadspris. \nAlla intresserade är hjärtligt välkomna! \n  \nBilden hämtad från pixabay.com \nDela evenemanget
URL:https://arkiv.gratisuppsala.se/event/vagen-till-psykisk-halsa-2/2017-04-03/
LOCATION:Infoteket om funktionshinder\, S:t Johannesgatan 28 D\, Uppsala\, 752 33\, Sverige
CATEGORIES:Föreläsning och Kurs,Kropp och Själ,Kunskap och Lärande,Teknik och Vetenskap
ATTACH;FMTTYPE=image/jpeg:https://arkiv.gratisuppsala.se/wp-content/uploads/2017/03/skogsstig-e1525687319345.jpg
ORGANIZER;CN="SeSam":MAILTO:info@sesamuppsala.se
GEO:59.8553013;17.6213622
X-APPLE-STRUCTURED-LOCATION;VALUE=URI;X-ADDRESS=Infoteket om funktionshinder S:t Johannesgatan 28 D Uppsala 752 33 Sverige;X-APPLE-RADIUS=500;X-TITLE=S:t Johannesgatan 28 D:geo:17.6213622,59.8553013
END:VEVENT
END:VCALENDAR