BEGIN:VCALENDAR
VERSION:2.0
PRODID:-//Gratis Uppsala - ECPv5.2.1//NONSGML v1.0//EN
CALSCALE:GREGORIAN
METHOD:PUBLISH
X-WR-CALNAME:Gratis Uppsala
X-ORIGINAL-URL:https://arkiv.gratisuppsala.se
X-WR-CALDESC:Händelser för Gratis Uppsala
BEGIN:VTIMEZONE
TZID:Europe/Stockholm
BEGIN:DAYLIGHT
TZOFFSETFROM:+0100
TZOFFSETTO:+0200
TZNAME:CEST
DTSTART:20150329T010000
END:DAYLIGHT
BEGIN:STANDARD
TZOFFSETFROM:+0200
TZOFFSETTO:+0100
TZNAME:CET
DTSTART:20151025T010000
END:STANDARD
END:VTIMEZONE
BEGIN:VEVENT
DTSTART;TZID=Europe/Stockholm:20151112T064500
DTEND;TZID=Europe/Stockholm:20151112T090000
DTSTAMP:20260419T213920
CREATED:20150722T080447Z
LAST-MODIFIED:20151102T134407Z
UID:3061-1447310700-1447318800@arkiv.gratisuppsala.se
SUMMARY:Vakna Uppsala med Ewa Wigenheim
DESCRIPTION:Från ABBA till munkarna i Laos\n  \n  \n06:45-07:29 Frukostmingel \n07:30-08:40 Scenprogram inkl mingelpaus \n  \nEwa Wigenheim är entreprenören som lyckats med en av pophistoriens största bedrifter. \nDen att ena ABBA i ett gemensamt ja till att få öppna ett museum till deras ära. \nUnder tre år ägde och skapade hon konceptet ABBA the Museum. Denna morgon berättar hon om entreprenörskap\, hur man kan väcka sina inre drivkrafter och ger goda råd om hur man kan tackla livet om det inte alltid går som man tänkt sig. \nI början på november släpper hon sin nya bok “Från ABBA till munkarna i Laos” som kommer direkt från tryckeriet till Vakna Uppsala. Boken finns att köpa på plats. \nMer info: www.wigenheim.se Tel 070-523 89 33\, ewa@wigenheim.se \nDela evenemanget
URL:https://arkiv.gratisuppsala.se/event/vakna-uppsala-frukostmote/
LOCATION:Uppsala Konsert & Kongress\, Vaksalatorg 1\, Uppsala
CATEGORIES:Föreläsning och Kurs
ORGANIZER;CN="God%20Morgon%20Sverige%20AB":MAILTO:mailto:theresa@godmorgonsverige.se
GEO:59.8614429;17.6460839
X-APPLE-STRUCTURED-LOCATION;VALUE=URI;X-ADDRESS=Uppsala Konsert & Kongress Vaksalatorg 1 Uppsala;X-APPLE-RADIUS=500;X-TITLE=Vaksalatorg 1:geo:17.6460839,59.8614429
END:VEVENT
END:VCALENDAR