BEGIN:VCALENDAR
VERSION:2.0
PRODID:-//Gratis Uppsala - ECPv5.2.1//NONSGML v1.0//EN
CALSCALE:GREGORIAN
METHOD:PUBLISH
X-WR-CALNAME:Gratis Uppsala
X-ORIGINAL-URL:https://arkiv.gratisuppsala.se
X-WR-CALDESC:Händelser för Gratis Uppsala
BEGIN:VTIMEZONE
TZID:Europe/Stockholm
BEGIN:DAYLIGHT
TZOFFSETFROM:+0100
TZOFFSETTO:+0200
TZNAME:CEST
DTSTART:20170326T010000
END:DAYLIGHT
BEGIN:STANDARD
TZOFFSETFROM:+0200
TZOFFSETTO:+0100
TZNAME:CET
DTSTART:20171029T010000
END:STANDARD
END:VTIMEZONE
BEGIN:VEVENT
DTSTART;TZID=Europe/Stockholm:20170105T180000
DTEND;TZID=Europe/Stockholm:20170105T190000
DTSTAMP:20260420T162706
CREATED:20170102T125911Z
LAST-MODIFIED:20170102T125911Z
UID:10021-1483639200-1483642800@arkiv.gratisuppsala.se
SUMMARY:Välgörenhetsträning
DESCRIPTION:Välgörenhetspass! Vill du träna ute i Hågadalen \nEtt roligt pass där alla kan vara med . Samling utanför Uppsala PT Studio på Malma Bergsväg 23. Alla pengar går oavkortat till WWF! \nPris: Du betalar det du vill skänka! \n\n\nBild hämtad på Pixabay.com \n\n\n\n\n\n Dela evenemanget
URL:https://arkiv.gratisuppsala.se/event/valgorenhetstraning/
LOCATION:Uppsala PT Studio\, Malma Bergsväg 23\, Uppsala\, Uppsala\, 756 45 \, Sverige
CATEGORIES:Sport & Motion
ATTACH;FMTTYPE=image/jpeg:https://arkiv.gratisuppsala.se/wp-content/uploads/2017/01/fitness-1625279_960_720.jpg
ORGANIZER;CN="Uppsala%20PT%20Studio":MAILTO: Ann@uppsalaptstudio.se
GEO:59.8286105;17.6135689
X-APPLE-STRUCTURED-LOCATION;VALUE=URI;X-ADDRESS=Uppsala PT Studio Malma Bergsväg 23 Uppsala Uppsala 756 45  Sverige;X-APPLE-RADIUS=500;X-TITLE=Malma Bergsväg 23:geo:17.6135689,59.8286105
END:VEVENT
END:VCALENDAR