BEGIN:VCALENDAR
VERSION:2.0
PRODID:-//Gratis Uppsala - ECPv5.2.1//NONSGML v1.0//EN
CALSCALE:GREGORIAN
METHOD:PUBLISH
X-WR-CALNAME:Gratis Uppsala
X-ORIGINAL-URL:https://arkiv.gratisuppsala.se
X-WR-CALDESC:Händelser för Gratis Uppsala
BEGIN:VTIMEZONE
TZID:Europe/Stockholm
BEGIN:DAYLIGHT
TZOFFSETFROM:+0100
TZOFFSETTO:+0200
TZNAME:CEST
DTSTART:20150329T010000
END:DAYLIGHT
BEGIN:STANDARD
TZOFFSETFROM:+0200
TZOFFSETTO:+0100
TZNAME:CET
DTSTART:20151025T010000
END:STANDARD
END:VTIMEZONE
BEGIN:VEVENT
DTSTART;VALUE=DATE:20151004
DTEND;VALUE=DATE:20151006
DTSTAMP:20260421T123513
CREATED:20150925T075428Z
LAST-MODIFIED:20150925T075428Z
UID:3940-1443931200-1444017599@arkiv.gratisuppsala.se
SUMMARY:Vandra för ett mänskligare Uppsala
DESCRIPTION:Vandringen avslutas utanför Uppsala domkyrka där vi äter medhavd matsäck. Dagen avslutas med gudstjänst kl 15.00 där temat är Vem är min nästa. \nDe samlar också in pengar där varje krona går till Ett mänskligare Uppsala.Välkommen att vara medvandrare och medmänniska! \n\nTider för avgång från olika kyrkor och vandringsledare\n(fler tider är på gång) \nGamla Uppsala kyrka 11.30  Lars-Åke Skagegård \nLötenkyrkan kl. 11.45 Eva Forslund  \nTunabergskyrkan kl 12.30  Mona Gustavsson \n\nSunnersta kyrka kl. 12.00   (via Den gode herdens kapell) Otto Lindblad    \nS:t Pers kyrka kl 14.00  Ingrid Skäremo   \nHelga Trefaldighets kyrka kl 13.30  Elisabeth Berglund \n  \nDela evenemanget
URL:https://arkiv.gratisuppsala.se/event/vandra-for-ett-manskligare-uppsala/
CATEGORIES:Kropp och Själ
END:VEVENT
END:VCALENDAR