BEGIN:VCALENDAR
VERSION:2.0
PRODID:-//Gratis Uppsala - ECPv5.2.1//NONSGML v1.0//EN
CALSCALE:GREGORIAN
METHOD:PUBLISH
X-WR-CALNAME:Gratis Uppsala
X-ORIGINAL-URL:https://arkiv.gratisuppsala.se
X-WR-CALDESC:Händelser för Gratis Uppsala
BEGIN:VTIMEZONE
TZID:Europe/Stockholm
BEGIN:DAYLIGHT
TZOFFSETFROM:+0100
TZOFFSETTO:+0200
TZNAME:CEST
DTSTART:20170326T010000
END:DAYLIGHT
BEGIN:STANDARD
TZOFFSETFROM:+0200
TZOFFSETTO:+0100
TZNAME:CET
DTSTART:20171029T010000
END:STANDARD
END:VTIMEZONE
BEGIN:VEVENT
DTSTART;TZID=Europe/Stockholm:20170410T140000
DTEND;TZID=Europe/Stockholm:20170410T180000
DTSTAMP:20260419T213420
CREATED:20170328T082957Z
LAST-MODIFIED:20170328T082957Z
UID:12879-1491832800-1491847200@arkiv.gratisuppsala.se
SUMMARY:Var med i en klurig skattjakt under Påsklovet!
DESCRIPTION:Var med i en klurig skattjakt under Påsklovet! \nEriksbergsbiblioteket\, måndag-torsdag 10-13 april.\nTider för skattjakten är; måndagen kl 13-17\, tisdagen kl 10-15\, onsdagen kl 14-19 och under torsdagen kl 13-17. \nAktiviteten passar för barn från 6 år. Alla som deltar får en bok att ta med sig hem. \nBild: pixabay.com. \nDela evenemanget
URL:https://arkiv.gratisuppsala.se/event/var-med-en-klurig-skattjakt-pasklovet/2017-04-10/
LOCATION:Eriksbergsbiblioteket\, Granitvägen 14\, Uppsala
CATEGORIES:Påsklov
ATTACH;FMTTYPE=image/png:https://arkiv.gratisuppsala.se/wp-content/uploads/2017/03/skattjakt.png
ORGANIZER;CN="Bibliotek%20Uppsala":MAILTO:kundtjanst@bibliotekuppsala.se
GEO:59.8402279;17.6004145
X-APPLE-STRUCTURED-LOCATION;VALUE=URI;X-ADDRESS=Eriksbergsbiblioteket Granitvägen 14 Uppsala;X-APPLE-RADIUS=500;X-TITLE=Granitvägen 14:geo:17.6004145,59.8402279
END:VEVENT
END:VCALENDAR