BEGIN:VCALENDAR
VERSION:2.0
PRODID:-//Gratis Uppsala - ECPv5.2.1//NONSGML v1.0//EN
CALSCALE:GREGORIAN
METHOD:PUBLISH
X-WR-CALNAME:Gratis Uppsala
X-ORIGINAL-URL:https://arkiv.gratisuppsala.se
X-WR-CALDESC:Händelser för Gratis Uppsala
BEGIN:VTIMEZONE
TZID:Europe/Stockholm
BEGIN:DAYLIGHT
TZOFFSETFROM:+0100
TZOFFSETTO:+0200
TZNAME:CEST
DTSTART:20160327T010000
END:DAYLIGHT
BEGIN:STANDARD
TZOFFSETFROM:+0200
TZOFFSETTO:+0100
TZNAME:CET
DTSTART:20161030T010000
END:STANDARD
END:VTIMEZONE
BEGIN:VEVENT
DTSTART;TZID=Europe/Stockholm:20160424T110000
DTEND;TZID=Europe/Stockholm:20160424T160000
DTSTAMP:20260420T095432
CREATED:20160414T111624Z
LAST-MODIFIED:20160414T111624Z
UID:6736-1461495600-1461513600@arkiv.gratisuppsala.se
SUMMARY:Vårfagning i kulturreservatet
DESCRIPTION:Vårfagning i kulturreservatet Linnés Hammarby söndag 24 april kl 10-15. \nKom med och gör markerna fina inför våren. Det ska rensas grenar\, räfsas\, eldas och läras mer om bondens år på 1700-talet.\nKorv och dricka till alla! \nArrangörer: SLU Agrarhistoria\, Länsstyrelsen\, kulturreservatet Linnés Hammarby. \nFoto: destinationuppsala.se. \n  \nDela evenemanget
URL:https://arkiv.gratisuppsala.se/event/varfagning-i-kulturreservatet/
LOCATION:Linnés Hammarby\, Danmarks-hammarby\, Uppsala\, 755 98\, Sverige
CATEGORIES:Samhälle,Utflykt / Picknick
ATTACH;FMTTYPE=image/jpeg:https://arkiv.gratisuppsala.se/wp-content/uploads/2016/04/vårfagning.jpg
GEO:59.817438;17.776032
X-APPLE-STRUCTURED-LOCATION;VALUE=URI;X-ADDRESS=Linnés Hammarby Danmarks-hammarby Uppsala 755 98 Sverige;X-APPLE-RADIUS=500;X-TITLE=Danmarks-hammarby:geo:17.776032,59.817438
END:VEVENT
END:VCALENDAR