BEGIN:VCALENDAR
VERSION:2.0
PRODID:-//Gratis Uppsala - ECPv5.2.1//NONSGML v1.0//EN
CALSCALE:GREGORIAN
METHOD:PUBLISH
X-WR-CALNAME:Gratis Uppsala
X-ORIGINAL-URL:https://arkiv.gratisuppsala.se
X-WR-CALDESC:Händelser för Gratis Uppsala
BEGIN:VTIMEZONE
TZID:Europe/Stockholm
BEGIN:DAYLIGHT
TZOFFSETFROM:+0100
TZOFFSETTO:+0200
TZNAME:CEST
DTSTART:20180325T010000
END:DAYLIGHT
BEGIN:STANDARD
TZOFFSETFROM:+0200
TZOFFSETTO:+0100
TZNAME:CET
DTSTART:20181028T010000
END:STANDARD
END:VTIMEZONE
BEGIN:VEVENT
DTSTART;TZID=Europe/Stockholm:20180416T193000
DTEND;TZID=Europe/Stockholm:20180416T210000
DTSTAMP:20260420T202810
CREATED:20180413T074909Z
LAST-MODIFIED:20180413T074909Z
UID:24082-1523907000-1523912400@arkiv.gratisuppsala.se
SUMMARY:Varför Ego Boy travar och Griseknoen bara växer
DESCRIPTION:Varför Ego Boy travar\, Griseknoen bara växer och hur Stampe förlorat sin rädsla för människor\nOm de spännande genetiska förändringar som skett under omvandlingen av vilda djur till våra tama husdjur. \nLeif Andersson berättar om arbetet med att kartlägga den genetiska bakgrunden för tamdjurens egenskaper och om de häpnadsväckande resultaten av denna forskning. En vild resa i genetikens tama praktik! \nFöreläsningen är en del av ”Genvägen till kunskap”\, en föreläsningsserie med genetik som tema. Samtliga föreläsningar i serien filmas och kan ses på Uppsala universitets webb. \nTid och plats\nMåndag 16 april\, klockan 18.30-20.00 \nHumanistiska Teatern \nKontaktperson: Siv Ohlsson \nNästa föreläsning i serien äger rum den 8 maj. \n(Bild från Wikimedia Commons på travhästen Ego Boy efter att han vunnit Grote Prijs der Lage Landen i Nederländerna 1973.) \nDela evenemanget
URL:https://arkiv.gratisuppsala.se/event/varfor-ego-boy-travar/
LOCATION:Humanistiska teatern\, Thunbergsvägen 3\, Uppsala\, 75238\, Sverige
CATEGORIES:Föreläsning och Kurs,Kunskap och Lärande
ATTACH;FMTTYPE=image/jpeg:https://arkiv.gratisuppsala.se/wp-content/uploads/2018/04/Ego_Boy_001.jpg
GEO:59.8537819;17.6248169
X-APPLE-STRUCTURED-LOCATION;VALUE=URI;X-ADDRESS=Humanistiska teatern Thunbergsvägen 3 Uppsala 75238 Sverige;X-APPLE-RADIUS=500;X-TITLE=Thunbergsvägen 3:geo:17.6248169,59.8537819
END:VEVENT
END:VCALENDAR